BEGIN:VCALENDAR
VERSION:2.0
PRODID:-//Bucks County Parent - ECPv6.15.20//NONSGML v1.0//EN
CALSCALE:GREGORIAN
METHOD:PUBLISH
X-WR-CALNAME:Bucks County Parent
X-ORIGINAL-URL:https://buckscountyparent.com
X-WR-CALDESC:Events for Bucks County Parent
REFRESH-INTERVAL;VALUE=DURATION:PT1H
X-Robots-Tag:noindex
X-PUBLISHED-TTL:PT1H
BEGIN:VTIMEZONE
TZID:America/New_York
BEGIN:DAYLIGHT
TZOFFSETFROM:-0500
TZOFFSETTO:-0400
TZNAME:EDT
DTSTART:20250309T070000
END:DAYLIGHT
BEGIN:STANDARD
TZOFFSETFROM:-0400
TZOFFSETTO:-0500
TZNAME:EST
DTSTART:20251102T060000
END:STANDARD
BEGIN:DAYLIGHT
TZOFFSETFROM:-0500
TZOFFSETTO:-0400
TZNAME:EDT
DTSTART:20260308T070000
END:DAYLIGHT
BEGIN:STANDARD
TZOFFSETFROM:-0400
TZOFFSETTO:-0500
TZNAME:EST
DTSTART:20261101T060000
END:STANDARD
BEGIN:DAYLIGHT
TZOFFSETFROM:-0500
TZOFFSETTO:-0400
TZNAME:EDT
DTSTART:20270314T070000
END:DAYLIGHT
BEGIN:STANDARD
TZOFFSETFROM:-0400
TZOFFSETTO:-0500
TZNAME:EST
DTSTART:20271107T060000
END:STANDARD
END:VTIMEZONE
BEGIN:VEVENT
DTSTART;TZID=America/New_York:20260320T113537
DTEND;TZID=America/New_York:20260322T173000
DTSTAMP:20260422T004022
CREATED:20260320T153537Z
LAST-MODIFIED:20260320T153537Z
UID:10045319-1774006537-1774200600@buckscountyparent.com
SUMMARY:The Mills At Jersey Gardens Hosts Annual New Jersey Youth Symphony PLAYATHON
DESCRIPTION:The Mills at Jersey Gardens\, New Jersey’s largest outlet and value retail center\, is\nthrilled to host the annual Wharton Arts Day – a free afternoon of interactive musical activities and live\nperformances on Sunday\, March 22\, from 1:30–5:30 p.m. \nCreated to educate and bring joy to guests of all ages and musical abilities\, the community event offers a\nvariety of family-friendly activities to experience throughout the afternoon. The day kicks off with the New\nJersey Youth Symphony Jazz Pop-Up Stage and is capped off with the New Jersey Youth Symphony\nPLAYATHON and Wharton Arts Festival Orchestra Pops Concert in Center Court.
URL:https://buckscountyparent.com/event/the-mills-at-jersey-gardens-hosts-annual-new-jersey-youth-symphony-playathon/
LOCATION:The Mills at Jersey Gardens\, 651 Kapkowski Rd\, Elizabeth\, NJ\, 07201\, United States
CATEGORIES:Community Event,For The Whole Family
ATTACH;FMTTYPE=image/jpeg:https://buckscountyparent.com/wp-content/uploads/2026/03/EVENTVMar2220260130PMTheMillsAtJerseyGardensHostsAnnualNewJerseyYouthSymphonyPLAYATHON.jpg
END:VEVENT
END:VCALENDAR