BEGIN:VCALENDAR
VERSION:2.0
PRODID:-//Bucks County Parent - ECPv6.15.20//NONSGML v1.0//EN
CALSCALE:GREGORIAN
METHOD:PUBLISH
X-WR-CALNAME:Bucks County Parent
X-ORIGINAL-URL:https://buckscountyparent.com
X-WR-CALDESC:Events for Bucks County Parent
REFRESH-INTERVAL;VALUE=DURATION:PT1H
X-Robots-Tag:noindex
X-PUBLISHED-TTL:PT1H
BEGIN:VTIMEZONE
TZID:America/New_York
BEGIN:DAYLIGHT
TZOFFSETFROM:-0500
TZOFFSETTO:-0400
TZNAME:EDT
DTSTART:20250309T070000
END:DAYLIGHT
BEGIN:STANDARD
TZOFFSETFROM:-0400
TZOFFSETTO:-0500
TZNAME:EST
DTSTART:20251102T060000
END:STANDARD
BEGIN:DAYLIGHT
TZOFFSETFROM:-0500
TZOFFSETTO:-0400
TZNAME:EDT
DTSTART:20260308T070000
END:DAYLIGHT
BEGIN:STANDARD
TZOFFSETFROM:-0400
TZOFFSETTO:-0500
TZNAME:EST
DTSTART:20261101T060000
END:STANDARD
BEGIN:DAYLIGHT
TZOFFSETFROM:-0500
TZOFFSETTO:-0400
TZNAME:EDT
DTSTART:20270314T070000
END:DAYLIGHT
BEGIN:STANDARD
TZOFFSETFROM:-0400
TZOFFSETTO:-0500
TZNAME:EST
DTSTART:20271107T060000
END:STANDARD
END:VTIMEZONE
BEGIN:VEVENT
DTSTART;TZID=America/New_York:20260509T090000
DTEND;TZID=America/New_York:20260509T110000
DTSTAMP:20260422T180822
CREATED:20260422T155007Z
LAST-MODIFIED:20260422T155007Z
UID:10045622-1778317200-1778324400@buckscountyparent.com
SUMMARY:Mom and Me Brunch\, Tea\, and Cookie Decorating at Sweet Occasions
DESCRIPTION:Join Sweet Occasions on Sat May 9th 2026 at 9 am for a delightful afternoon celebrating all the amazing moms out there. The perfect event for anyone of any age! \nTreat your mom to a special tea party filled with fresh scones\, tea sandwiches\, mini cookies and fresh brewed tea\, enjoy some cookie decorating too! \nOne ticket includes entry for a mother/child to the event. Additional tickets can be purchased for additional children.
URL:https://buckscountyparent.com/event/mom-and-me-brunch-tea-and-cookie-decorating-at-sweet-occasions/
LOCATION:Sweet Occasions\, 74 Peddlers Village\, Lahaska\, PA\, 18931\, United States
CATEGORIES:For The Whole Family,Mother's Day
ATTACH;FMTTYPE=image/jpeg:https://buckscountyparent.com/wp-content/uploads/2026/04/Sweet-Occasions-Mothers-Day-e1776872953727.jpeg
END:VEVENT
END:VCALENDAR