BEGIN:VCALENDAR
VERSION:2.0
PRODID:-//Bucks County Parent - ECPv6.15.20//NONSGML v1.0//EN
CALSCALE:GREGORIAN
METHOD:PUBLISH
X-WR-CALNAME:Bucks County Parent
X-ORIGINAL-URL:https://buckscountyparent.com
X-WR-CALDESC:Events for Bucks County Parent
REFRESH-INTERVAL;VALUE=DURATION:PT1H
X-Robots-Tag:noindex
X-PUBLISHED-TTL:PT1H
BEGIN:VTIMEZONE
TZID:America/New_York
BEGIN:DAYLIGHT
TZOFFSETFROM:-0500
TZOFFSETTO:-0400
TZNAME:EDT
DTSTART:20240310T070000
END:DAYLIGHT
BEGIN:STANDARD
TZOFFSETFROM:-0400
TZOFFSETTO:-0500
TZNAME:EST
DTSTART:20241103T060000
END:STANDARD
BEGIN:DAYLIGHT
TZOFFSETFROM:-0500
TZOFFSETTO:-0400
TZNAME:EDT
DTSTART:20250309T070000
END:DAYLIGHT
BEGIN:STANDARD
TZOFFSETFROM:-0400
TZOFFSETTO:-0500
TZNAME:EST
DTSTART:20251102T060000
END:STANDARD
BEGIN:DAYLIGHT
TZOFFSETFROM:-0500
TZOFFSETTO:-0400
TZNAME:EDT
DTSTART:20260308T070000
END:DAYLIGHT
BEGIN:STANDARD
TZOFFSETFROM:-0400
TZOFFSETTO:-0500
TZNAME:EST
DTSTART:20261101T060000
END:STANDARD
BEGIN:DAYLIGHT
TZOFFSETFROM:-0500
TZOFFSETTO:-0400
TZNAME:EDT
DTSTART:20270314T070000
END:DAYLIGHT
BEGIN:STANDARD
TZOFFSETFROM:-0400
TZOFFSETTO:-0500
TZNAME:EST
DTSTART:20271107T060000
END:STANDARD
END:VTIMEZONE
BEGIN:VEVENT
DTSTART;TZID=America/New_York:20260208T120000
DTEND;TZID=America/New_York:20260208T140000
DTSTAMP:20260421T230123
CREATED:20260126T222843Z
LAST-MODIFIED:20260202T162435Z
UID:10044680-1770552000-1770559200@buckscountyparent.com
SUMMARY:Princess & Superhero Skate! at Spring Mountain
DESCRIPTION:RESCHEDULED to Sunday 2/8 12:00pm-2:00pm Public Skate Wear a costume and skate with some of your favorite characters! Face Paint & Balloon Animals start at 12:00 Short Ice Show at 12:00 followed by public skate!
URL:https://buckscountyparent.com/event/princess-super-hero-skate-at-spring-mountain/
LOCATION:Spring Mountain\, 757 Spring Mountain Road\, Spring Mount\, PA\, 19478\, United States
CATEGORIES:Bucks County Events,Community Event,Family Event,Kid Event
ATTACH;FMTTYPE=image/jpeg:https://buckscountyparent.com/wp-content/uploads/2026/01/Princess-and-superhero-skate-sun-feb-8.jpeg
END:VEVENT
BEGIN:VEVENT
DTSTART;TZID=America/New_York:20251214T120000
DTEND;TZID=America/New_York:20251214T150000
DTSTAMP:20260421T230123
CREATED:20251208T164336Z
LAST-MODIFIED:20251208T164336Z
UID:10044088-1765713600-1765724400@buckscountyparent.com
SUMMARY:Skate with Santa & Holiday Spectacular at Spring Mountain
DESCRIPTION:Join Spring Mountain’s 5th Annual Skate with Santa & Holiday Spectacular!  \n  \nSun December 14th \n  \n12pm- Skate Spectacular \n1pm- Skate with Santa \n3pm- 5th Annual Tree lighting \n  \nBook your ticket to Skate with Santa at 1:00 on Sun 12/14! The Skating Spectacular Show (12:00) & Tree Lighting are included for free!
URL:https://buckscountyparent.com/event/skate-with-santa-holiday-spectacular-at-spring-mountain/
LOCATION:Spring Mountain\, 757 Spring Mountain Road\, Spring Mount\, PA\, 19478\, United States
CATEGORIES:Bucks County Events,Christmas Fun,Family Event,Santa Sightings
ATTACH;FMTTYPE=image/jpeg:https://buckscountyparent.com/wp-content/uploads/2025/12/Spring-Mountain-Skate-with-Santa.jpeg
END:VEVENT
END:VCALENDAR