BEGIN:VCALENDAR
VERSION:2.0
PRODID:-//Bucks County Parent - ECPv6.15.20//NONSGML v1.0//EN
CALSCALE:GREGORIAN
METHOD:PUBLISH
X-ORIGINAL-URL:https://buckscountyparent.com
X-WR-CALDESC:Events for Bucks County Parent
REFRESH-INTERVAL;VALUE=DURATION:PT1H
X-Robots-Tag:noindex
X-PUBLISHED-TTL:PT1H
BEGIN:VTIMEZONE
TZID:America/New_York
BEGIN:DAYLIGHT
TZOFFSETFROM:-0500
TZOFFSETTO:-0400
TZNAME:EDT
DTSTART:20250309T070000
END:DAYLIGHT
BEGIN:STANDARD
TZOFFSETFROM:-0400
TZOFFSETTO:-0500
TZNAME:EST
DTSTART:20251102T060000
END:STANDARD
BEGIN:DAYLIGHT
TZOFFSETFROM:-0500
TZOFFSETTO:-0400
TZNAME:EDT
DTSTART:20260308T070000
END:DAYLIGHT
BEGIN:STANDARD
TZOFFSETFROM:-0400
TZOFFSETTO:-0500
TZNAME:EST
DTSTART:20261101T060000
END:STANDARD
BEGIN:DAYLIGHT
TZOFFSETFROM:-0500
TZOFFSETTO:-0400
TZNAME:EDT
DTSTART:20270314T070000
END:DAYLIGHT
BEGIN:STANDARD
TZOFFSETFROM:-0400
TZOFFSETTO:-0500
TZNAME:EST
DTSTART:20271107T060000
END:STANDARD
END:VTIMEZONE
BEGIN:VEVENT
DTSTART;TZID=America/New_York:20260515T160000
DTEND;TZID=America/New_York:20260515T180000
DTSTAMP:20260424T123312
CREATED:20260424T153429Z
LAST-MODIFIED:20260424T153429Z
UID:10045782-1778860800-1778868000@buckscountyparent.com
SUMMARY:Spring Carnival: Take a Spin in Nature
DESCRIPTION:Celebrate nature at Heritage Conservancy’s Annual Spring Carnival at Croydon Woods in Lower Bucks County. Enjoy refreshments\, nature-based games and activities\, and expert-led hikes into beautiful Croydon Woods. \nCommunity organizations will be there\, hosting activities for all ages\, including nature games\, art projects\, and prize giveaways. \nSpring Carnival promises fun for the whole family. Don’t miss this opportunity to connect with nature and create lasting memories. Leashed\, well-behaved pets are welcome. Free of charge!
URL:https://buckscountyparent.com/event/spring-carnival-take-a-spin-in-nature/
LOCATION:Croydon Woods Nature Preserve\, 1900 Summit Ave\, Croydon\, 19021
CATEGORIES:Community Event,For The Whole Family
ATTACH;FMTTYPE=image/jpeg:https://buckscountyparent.com/wp-content/uploads/2026/04/May1520260400PMSpringCarnivalTakeaSpininNature_192866677_springcarn11536x1024-e1777044824985.jpg
END:VEVENT
END:VCALENDAR