BEGIN:VCALENDAR
VERSION:2.0
PRODID:-//Bucks County Parent - ECPv6.15.20//NONSGML v1.0//EN
CALSCALE:GREGORIAN
METHOD:PUBLISH
X-WR-CALNAME:Bucks County Parent
X-ORIGINAL-URL:https://buckscountyparent.com
X-WR-CALDESC:Events for Bucks County Parent
REFRESH-INTERVAL;VALUE=DURATION:PT1H
X-Robots-Tag:noindex
X-PUBLISHED-TTL:PT1H
BEGIN:VTIMEZONE
TZID:America/New_York
BEGIN:DAYLIGHT
TZOFFSETFROM:-0500
TZOFFSETTO:-0400
TZNAME:EDT
DTSTART:20240310T070000
END:DAYLIGHT
BEGIN:STANDARD
TZOFFSETFROM:-0400
TZOFFSETTO:-0500
TZNAME:EST
DTSTART:20241103T060000
END:STANDARD
BEGIN:DAYLIGHT
TZOFFSETFROM:-0500
TZOFFSETTO:-0400
TZNAME:EDT
DTSTART:20250309T070000
END:DAYLIGHT
BEGIN:STANDARD
TZOFFSETFROM:-0400
TZOFFSETTO:-0500
TZNAME:EST
DTSTART:20251102T060000
END:STANDARD
BEGIN:DAYLIGHT
TZOFFSETFROM:-0500
TZOFFSETTO:-0400
TZNAME:EDT
DTSTART:20260308T070000
END:DAYLIGHT
BEGIN:STANDARD
TZOFFSETFROM:-0400
TZOFFSETTO:-0500
TZNAME:EST
DTSTART:20261101T060000
END:STANDARD
END:VTIMEZONE
BEGIN:VEVENT
DTSTART;TZID=America/New_York:20251231T110000
DTEND;TZID=America/New_York:20251231T120000
DTSTAMP:20260422T001948
CREATED:20251205T191421Z
LAST-MODIFIED:20251205T191421Z
UID:10044081-1767178800-1767182400@buckscountyparent.com
SUMMARY:Countdown to Noon at Quakertown Library
DESCRIPTION:Celebrate the New Year with Quakertown Library! Enjoy crafts\, a dance party\, and a fun-filled countdown to 12:00… noon\, that is! All ages welcome! \n  \n\nWednesday\, December 31\, 2025\, 11:00am – 12:00pm
URL:https://buckscountyparent.com/event/countdown-to-noon-at-quakertown-library/
LOCATION:Bucks County Library-Quakertown\, 401 West Mill Street\, Quakertown\, PA\, 18951\, United States
CATEGORIES:Bucks County Events,Family Event,Free,Kid Event,New Year
ATTACH;FMTTYPE=image/jpeg:https://buckscountyparent.com/wp-content/uploads/2025/12/a-2026-new-year-celebration.jpg
END:VEVENT
BEGIN:VEVENT
DTSTART;TZID=America/New_York:20250926T103000
DTEND;TZID=America/New_York:20250926T113000
DTSTAMP:20260422T001948
CREATED:20250903T151912Z
LAST-MODIFIED:20250903T160104Z
UID:10042460-1758882600-1758886200@buckscountyparent.com
SUMMARY:Musical Instrument Petting Zoo at the Quakertown Library
DESCRIPTION:Presented by Keep Music Alive\, this fun and hands-on program invites children to explore the world of music in an exciting and informal setting. Kids can try out a variety of musical instruments—both familiar and new—including child-sized electric and acoustic guitars\, ukuleles\, keyboards\, and a wide assortment of percussion instruments. \nIt’s the perfect way to spark a love of music and introduce children to the joy of making their own sounds in a playful\, drop-in environment. \nNo registration required. Program is a drop-in type of format.
URL:https://buckscountyparent.com/event/musical-instrument-petting-zoo-at-the-quakertown-library/
LOCATION:Bucks County Library-Quakertown\, 401 West Mill Street\, Quakertown\, PA\, 18951\, United States
CATEGORIES:At the Library,Bucks County Events,Free
ATTACH;FMTTYPE=image/jpeg:https://buckscountyparent.com/wp-content/uploads/2025/09/musical-instrument-petting-zoo-e1756911693698.jpg
END:VEVENT
BEGIN:VEVENT
DTSTART;TZID=America/New_York:20250906T140000
DTEND;TZID=America/New_York:20250906T150000
DTSTAMP:20260422T001948
CREATED:20250324T134743Z
LAST-MODIFIED:20250903T151303Z
UID:10038248-1757167200-1757170800@buckscountyparent.com
SUMMARY:Book Bingo at the Quakertown Library
DESCRIPTION:Come to the Quakertown Library for a fun game of classic Bingo\, with the chance to win a book prize! This event is open to children and adults of all ages\, and no registration is required.
URL:https://buckscountyparent.com/event/book-bingo-at-the-quakertown-library/
LOCATION:Bucks County Library-Quakertown\, 401 West Mill Street\, Quakertown\, PA\, 18951\, United States
CATEGORIES:At the Library,Bucks County Events,Free
ATTACH;FMTTYPE=image/jpeg:https://buckscountyparent.com/wp-content/uploads/2025/03/Book-bingo-quakertown-library.jpeg
END:VEVENT
END:VCALENDAR