BEGIN:VCALENDAR
VERSION:2.0
PRODID:-//Bucks County Parent - ECPv6.15.20//NONSGML v1.0//EN
CALSCALE:GREGORIAN
METHOD:PUBLISH
X-ORIGINAL-URL:https://buckscountyparent.com
X-WR-CALDESC:Events for Bucks County Parent
REFRESH-INTERVAL;VALUE=DURATION:PT1H
X-Robots-Tag:noindex
X-PUBLISHED-TTL:PT1H
BEGIN:VTIMEZONE
TZID:America/New_York
BEGIN:DAYLIGHT
TZOFFSETFROM:-0500
TZOFFSETTO:-0400
TZNAME:EDT
DTSTART:20250309T070000
END:DAYLIGHT
BEGIN:STANDARD
TZOFFSETFROM:-0400
TZOFFSETTO:-0500
TZNAME:EST
DTSTART:20251102T060000
END:STANDARD
BEGIN:DAYLIGHT
TZOFFSETFROM:-0500
TZOFFSETTO:-0400
TZNAME:EDT
DTSTART:20260308T070000
END:DAYLIGHT
BEGIN:STANDARD
TZOFFSETFROM:-0400
TZOFFSETTO:-0500
TZNAME:EST
DTSTART:20261101T060000
END:STANDARD
BEGIN:DAYLIGHT
TZOFFSETFROM:-0500
TZOFFSETTO:-0400
TZNAME:EDT
DTSTART:20270314T070000
END:DAYLIGHT
BEGIN:STANDARD
TZOFFSETFROM:-0400
TZOFFSETTO:-0500
TZNAME:EST
DTSTART:20271107T060000
END:STANDARD
END:VTIMEZONE
BEGIN:VEVENT
DTSTART;TZID=America/New_York:20260509T100000
DTEND;TZID=America/New_York:20260509T113000
DTSTAMP:20260424T091522
CREATED:20260423T162045Z
LAST-MODIFIED:20260423T162121Z
UID:10045630-1778320800-1778326200@buckscountyparent.com
SUMMARY:Mother's Day Brunch at Rose Bank Winery
DESCRIPTION:Treat Mom to a beautiful Mother’s Day morning at Rose Bank Winery! Gather the family for a hearty brunch buffet filled with all your favorite sweet and savory classics — the perfect setting to celebrate the moms who mean the most. Soak in the relaxed winery atmosphere\, raise a glass\, and enjoy a special morning together. As a little extra touch\, every mom will receive a complimentary flower to make her day even more memorable. \n  \n\nPrice:\nAdults- $55.00 Children-$25.00
URL:https://buckscountyparent.com/event/mothers-day-brunch-at-rose-bank-winery/2026-05-09/
LOCATION:Rose Bank Winery\, 258 Durham Road\, Newtown\, PA\, 18940\, United States
CATEGORIES:Mother's Day
ATTACH;FMTTYPE=image/png:https://buckscountyparent.com/wp-content/uploads/2026/04/mothers-day-1-.png
END:VEVENT
BEGIN:VEVENT
DTSTART;TZID=America/New_York:20260510T100000
DTEND;TZID=America/New_York:20260510T113000
DTSTAMP:20260424T091522
CREATED:20260423T162045Z
LAST-MODIFIED:20260423T162121Z
UID:10045631-1778407200-1778412600@buckscountyparent.com
SUMMARY:Mother's Day Brunch at Rose Bank Winery
DESCRIPTION:Treat Mom to a beautiful Mother’s Day morning at Rose Bank Winery! Gather the family for a hearty brunch buffet filled with all your favorite sweet and savory classics — the perfect setting to celebrate the moms who mean the most. Soak in the relaxed winery atmosphere\, raise a glass\, and enjoy a special morning together. As a little extra touch\, every mom will receive a complimentary flower to make her day even more memorable. \n  \n\nPrice:\nAdults- $55.00 Children-$25.00
URL:https://buckscountyparent.com/event/mothers-day-brunch-at-rose-bank-winery/2026-05-10/1/
LOCATION:Rose Bank Winery\, 258 Durham Road\, Newtown\, PA\, 18940\, United States
CATEGORIES:Mother's Day
ATTACH;FMTTYPE=image/png:https://buckscountyparent.com/wp-content/uploads/2026/04/mothers-day-1-.png
END:VEVENT
BEGIN:VEVENT
DTSTART;TZID=America/New_York:20260510T100000
DTEND;TZID=America/New_York:20260510T140000
DTSTAMP:20260424T091522
CREATED:20260422T161704Z
LAST-MODIFIED:20260422T161704Z
UID:10045626-1778407200-1778421600@buckscountyparent.com
SUMMARY:A Toast to Mom's at Crossing Vineyards
DESCRIPTION:Treat your mom to the day she deserves with a relaxing brunch at Crossing Vineyards. \nYou’ll be seated under their gorgeous Vistas tent\, enjoying panoramic views of the vineyard while you sip on award-winning wine and enjoy a delectable buffet feast. Less mess than breakfast in bed\, and more fun for the whole family!
URL:https://buckscountyparent.com/event/a-toast-to-moms-at-crossing-vineyards/
LOCATION:Crossing Vineyards\, 1853 Wrightstown Road\, Newton\, PA\, 18940\, United States
CATEGORIES:Mother's Day
ATTACH;FMTTYPE=image/jpeg:https://buckscountyparent.com/wp-content/uploads/2026/04/EVENT-2026-MothersDayBrunch.jpg
END:VEVENT
BEGIN:VEVENT
DTSTART;TZID=America/New_York:20260510T123000
DTEND;TZID=America/New_York:20260510T133000
DTSTAMP:20260424T091522
CREATED:20260423T162045Z
LAST-MODIFIED:20260423T162121Z
UID:10045632-1778416200-1778419800@buckscountyparent.com
SUMMARY:Mother's Day Brunch at Rose Bank Winery
DESCRIPTION:Treat Mom to a beautiful Mother’s Day morning at Rose Bank Winery! Gather the family for a hearty brunch buffet filled with all your favorite sweet and savory classics — the perfect setting to celebrate the moms who mean the most. Soak in the relaxed winery atmosphere\, raise a glass\, and enjoy a special morning together. As a little extra touch\, every mom will receive a complimentary flower to make her day even more memorable. \n  \n\nPrice:\nAdults- $55.00 Children-$25.00
URL:https://buckscountyparent.com/event/mothers-day-brunch-at-rose-bank-winery/2026-05-10/2/
LOCATION:Rose Bank Winery\, 258 Durham Road\, Newtown\, PA\, 18940\, United States
CATEGORIES:Mother's Day
ATTACH;FMTTYPE=image/png:https://buckscountyparent.com/wp-content/uploads/2026/04/mothers-day-1-.png
END:VEVENT
BEGIN:VEVENT
DTSTART;TZID=America/New_York:20260517T150000
DTEND;TZID=America/New_York:20260517T163000
DTSTAMP:20260424T091522
CREATED:20260318T165809Z
LAST-MODIFIED:20260318T165844Z
UID:10045312-1779030000-1779035400@buckscountyparent.com
SUMMARY:A Paddington Party & Movie Screening
DESCRIPTION:Starting at 2 PM\, enjoy marmalade sandwiches\, a hat decorating station\, a Paddington photo booth\, Paddington stickers for every child\, a Paddington Politeness Pledge before the movie\, and more. \nOnly 200 tickets will be sold.
URL:https://buckscountyparent.com/event/a-paddington-party-movie-screening/
LOCATION:The Newtown Theatre\, 120 N State St\, Newtown\, PA\, 18940\, United States
CATEGORIES:Bucks County Events,Community Event,For Kids Ages 1 – 3,For Kids Ages 11 – 14,For Kids Ages 15+,For Kids Ages 4 – 6,For Kids Ages 7 – 10,For The Whole Family,Theatre and Performance Art
ATTACH;FMTTYPE=image/jpeg:https://buckscountyparent.com/wp-content/uploads/2026/03/May1720260300PMAPaddingtonPartyMovieScreening_192866677_91dtluy3rl._ac_uf8941000_ql80_.jpg
END:VEVENT
BEGIN:VEVENT
DTSTART;TZID=America/New_York:20260519T090000
DTEND;TZID=America/New_York:20260519T150000
DTSTAMP:20260424T091522
CREATED:20260302T013254Z
LAST-MODIFIED:20260302T013944Z
UID:10044997-1779181200-1779202800@buckscountyparent.com
SUMMARY:Camp NAC Day off of school camp
DESCRIPTION:Camp NAC offers reliable childcare on school closure days\, including holidays\, in-service days\, and breaks\, aligned with Council Rock\, Neshaminy\, Pennsbury\, and St. Andrew’s calendars. \nCampers ages 5-12 enjoy daily indoor pool time (swimsuits required)\, while ages 3-4 participate in a separate Early Learners program at a different location. Open to both NAC members and non-members; call for Early Learners details. \n  \nThemes: \nMarch 20th\, 2026 Crazy Crafts or Science Explorers\nMarch 30th\, 2026 Kids Choice\nMarch 31st\, 2026 NACster\nApril 1st\, 2026 Ninja Nastics or Pastry Chef*\nApril 2nd\, 2026 Gymnastics or Sports of all Sorts*\nApril 3rd\, 2026 NEW! Swiftie Summer or Flag Football*\nApril 6th\, 2026 Inflatables or TikTok Food Trends\nApril 13th\, 2026 Kids Choice\nMay 19th\, 2026 NACster
URL:https://buckscountyparent.com/event/camp-nac-day-off-of-school-camp-2/2026-05-19/
LOCATION:Newtown Athletic Club\, 120 Pheasant Run\, Newtown\, PA\, 18940\, United States
CATEGORIES:Bucks County Events,Day off of school camp,For Kids Ages 4 – 6,For Kids Ages 7 – 10,For Kids Ages 8 – 10
ATTACH;FMTTYPE=image/jpeg:https://buckscountyparent.com/wp-content/uploads/2026/03/Mar2020260900AMSchoolsOutCamp_192866677_indoorpool.jpg
END:VEVENT
BEGIN:VEVENT
DTSTART;TZID=America/New_York:20260614T150000
DTEND;TZID=America/New_York:20260614T163000
DTSTAMP:20260424T091522
CREATED:20260318T170431Z
LAST-MODIFIED:20260318T170431Z
UID:10045313-1781449200-1781454600@buckscountyparent.com
SUMMARY:Puppy Pals
DESCRIPTION:Come see the show everyone is howling about. After winning America’s hearts on NBC’s America’s Got Talent\, Puppy Pals Live is returning to the Newtown Theatre! \nPuppy Pals Live is an action-packed\, family friendly show featuring adopted and rescued dogs performing spectacular stunts and breathtaking feats. Puppies and the audience will be led through challenging and comical tricks as the pooches show everyone who is boss. \nFull of surprises and laugh-out-loud canine comedy\, this show appeals to children of all ages.
URL:https://buckscountyparent.com/event/puppy-pals/
LOCATION:The Newtown Theatre\, 120 N State St\, Newtown\, PA\, 18940\, United States
CATEGORIES:Bucks County Events,Community Event,For Kids Ages 1 – 3,For Kids Ages 11 – 14,For Kids Ages 15+,For Kids Ages 4 – 6,For Kids Ages 7 – 10,For The Whole Family,Theatre and Performance Art
ATTACH;FMTTYPE=image/jpeg:https://buckscountyparent.com/wp-content/uploads/2026/03/Jun1420260300PMPuppyPals_192866677_zwxog34q-e1773853405359.jpeg
END:VEVENT
END:VCALENDAR