BEGIN:VCALENDAR
VERSION:2.0
PRODID:-//Bucks County Parent - ECPv6.15.20//NONSGML v1.0//EN
CALSCALE:GREGORIAN
METHOD:PUBLISH
X-ORIGINAL-URL:https://buckscountyparent.com
X-WR-CALDESC:Events for Bucks County Parent
REFRESH-INTERVAL;VALUE=DURATION:PT1H
X-Robots-Tag:noindex
X-PUBLISHED-TTL:PT1H
BEGIN:VTIMEZONE
TZID:America/New_York
BEGIN:DAYLIGHT
TZOFFSETFROM:-0500
TZOFFSETTO:-0400
TZNAME:EDT
DTSTART:20240310T070000
END:DAYLIGHT
BEGIN:STANDARD
TZOFFSETFROM:-0400
TZOFFSETTO:-0500
TZNAME:EST
DTSTART:20241103T060000
END:STANDARD
BEGIN:DAYLIGHT
TZOFFSETFROM:-0500
TZOFFSETTO:-0400
TZNAME:EDT
DTSTART:20250309T070000
END:DAYLIGHT
BEGIN:STANDARD
TZOFFSETFROM:-0400
TZOFFSETTO:-0500
TZNAME:EST
DTSTART:20251102T060000
END:STANDARD
BEGIN:DAYLIGHT
TZOFFSETFROM:-0500
TZOFFSETTO:-0400
TZNAME:EDT
DTSTART:20260308T070000
END:DAYLIGHT
BEGIN:STANDARD
TZOFFSETFROM:-0400
TZOFFSETTO:-0500
TZNAME:EST
DTSTART:20261101T060000
END:STANDARD
BEGIN:DAYLIGHT
TZOFFSETFROM:-0500
TZOFFSETTO:-0400
TZNAME:EDT
DTSTART:20270314T070000
END:DAYLIGHT
BEGIN:STANDARD
TZOFFSETFROM:-0400
TZOFFSETTO:-0500
TZNAME:EST
DTSTART:20271107T060000
END:STANDARD
END:VTIMEZONE
BEGIN:VEVENT
DTSTART;TZID=America/New_York:20260414T170000
DTEND;TZID=America/New_York:20260414T190000
DTSTAMP:20260419T121739
CREATED:20260203T141411Z
LAST-MODIFIED:20260203T141620Z
UID:10044718-1776186000-1776193200@buckscountyparent.com
SUMMARY:Kids Clubs at Salvation Army Levittown
DESCRIPTION:Kids Clubs at The Salvation Army A welcoming and fun space for children in grades 1–6 to learn\, grow\, and connect. Activities include art\, music\, cooking\, sports\, and weekly Bible lessons. A kid-friendly dinner is provided each session. \n\nWhen: Tuesday evenings\, 5:00–7:00 PM\nWhere: The Salvation Army\, 215 Appletree Drive\, Levittown\, PA 19055\nCost: $10 per child for the year (due within the first month)\nCapacity: Limited to 40 children
URL:https://buckscountyparent.com/event/kids-clubs-at-salvation-army-levittown/2026-04-14/
LOCATION:Salvation Army Levittown\, 215 Appletree Dr.\, Levittown\, PA\, 19055\, United States
CATEGORIES:Bucks County Events,Family Event,Kid Event
ATTACH;FMTTYPE=image/jpeg:https://buckscountyparent.com/wp-content/uploads/2026/02/Tuesday-evenings-at-Salvation-Army-e1770128026384.jpg
END:VEVENT
BEGIN:VEVENT
DTSTART;TZID=America/New_York:20260407T170000
DTEND;TZID=America/New_York:20260407T190000
DTSTAMP:20260419T121739
CREATED:20260203T141411Z
LAST-MODIFIED:20260203T141620Z
UID:10044717-1775581200-1775588400@buckscountyparent.com
SUMMARY:Kids Clubs at Salvation Army Levittown
DESCRIPTION:Kids Clubs at The Salvation Army A welcoming and fun space for children in grades 1–6 to learn\, grow\, and connect. Activities include art\, music\, cooking\, sports\, and weekly Bible lessons. A kid-friendly dinner is provided each session. \n\nWhen: Tuesday evenings\, 5:00–7:00 PM\nWhere: The Salvation Army\, 215 Appletree Drive\, Levittown\, PA 19055\nCost: $10 per child for the year (due within the first month)\nCapacity: Limited to 40 children
URL:https://buckscountyparent.com/event/kids-clubs-at-salvation-army-levittown/2026-04-07/
LOCATION:Salvation Army Levittown\, 215 Appletree Dr.\, Levittown\, PA\, 19055\, United States
CATEGORIES:Bucks County Events,Family Event,Kid Event
ATTACH;FMTTYPE=image/jpeg:https://buckscountyparent.com/wp-content/uploads/2026/02/Tuesday-evenings-at-Salvation-Army-e1770128026384.jpg
END:VEVENT
BEGIN:VEVENT
DTSTART;TZID=America/New_York:20260331T173000
DTEND;TZID=America/New_York:20260331T190000
DTSTAMP:20260419T121740
CREATED:20260306T173445Z
LAST-MODIFIED:20260306T173445Z
UID:10045184-1774978200-1774983600@buckscountyparent.com
SUMMARY:Easter Eggstravaganza at Salvation Army Levittown
DESCRIPTION:The Salvation Army in Levittown is hosting its annual Easter Eggstravaganza on Tuesday\, March 31\, 2026\, starting at 5:30 PM. This free family celebration welcomes children ages 2–12 for an evening of music\, games\, treats\, and time on the moon bounce. Families can gather to enjoy the festivities while learning about the meaning of Easter. Registration is available through the QR code provided\, and—weather permitting—the evening will also include an Easter Egg Hunt. The community is invited to come out and share in the fun.
URL:https://buckscountyparent.com/event/easter-eggstravaganza-at-salvation-army-levittown/
LOCATION:Salvation Army Levittown\, 215 Appletree Dr.\, Levittown\, PA\, 19055\, United States
CATEGORIES:Bucks County Events,Easter
ATTACH;FMTTYPE=image/jpeg:https://buckscountyparent.com/wp-content/uploads/2026/03/EVENT-Easter-Eggstravaganza-Salvation-Army.jpg
END:VEVENT
BEGIN:VEVENT
DTSTART;TZID=America/New_York:20260331T170000
DTEND;TZID=America/New_York:20260331T190000
DTSTAMP:20260419T121740
CREATED:20260203T141411Z
LAST-MODIFIED:20260203T141620Z
UID:10044716-1774976400-1774983600@buckscountyparent.com
SUMMARY:Kids Clubs at Salvation Army Levittown
DESCRIPTION:Kids Clubs at The Salvation Army A welcoming and fun space for children in grades 1–6 to learn\, grow\, and connect. Activities include art\, music\, cooking\, sports\, and weekly Bible lessons. A kid-friendly dinner is provided each session. \n\nWhen: Tuesday evenings\, 5:00–7:00 PM\nWhere: The Salvation Army\, 215 Appletree Drive\, Levittown\, PA 19055\nCost: $10 per child for the year (due within the first month)\nCapacity: Limited to 40 children
URL:https://buckscountyparent.com/event/kids-clubs-at-salvation-army-levittown/2026-03-31/
LOCATION:Salvation Army Levittown\, 215 Appletree Dr.\, Levittown\, PA\, 19055\, United States
CATEGORIES:Bucks County Events,Family Event,Kid Event
ATTACH;FMTTYPE=image/jpeg:https://buckscountyparent.com/wp-content/uploads/2026/02/Tuesday-evenings-at-Salvation-Army-e1770128026384.jpg
END:VEVENT
BEGIN:VEVENT
DTSTART;TZID=America/New_York:20260326T183000
DTEND;TZID=America/New_York:20260326T210000
DTSTAMP:20260419T121740
CREATED:20260212T161236Z
LAST-MODIFIED:20260212T161236Z
UID:10044905-1774549800-1774558800@buckscountyparent.com
SUMMARY:Pediatric Drowning safety class at Levittown- Fairless Hills Rescue Squad
DESCRIPTION:The Pediatric Drowning lecture\, presented by Dr. Eric Lusinski of St. Christopher’s Hospital\, offers an in‑depth educational session for attendees. Held on March 26\, 2026\, at the Levittown–Fairless Hills Rescue Squad\, the evening includes registration and dinner from 6:30–7:00 PM followed by a two‑hour lecture from 7–9 PM. Hosted in partnership with St. Mary Medical Center\, St. Christopher’s Hospital for Children\, and the Levittown–Fairless Hills Rescue Squad\, the program provides important training and insight into pediatric drowning emergencies. \n  \nRegistration is available through the QR code provided on the flyer.
URL:https://buckscountyparent.com/event/pediatric-drowning-safety-class-at-levittown-fairless-hills-rescue-squad/
LOCATION:Levittown-Fairless Hills Rescue Squad\, 7405 New Falls Rd.\, Levittown\, PA\, 19055\, United States
CATEGORIES:Bucks County Events,Class or Workshop,Community Event
ATTACH;FMTTYPE=image/jpeg:https://buckscountyparent.com/wp-content/uploads/2026/02/Pediatric-Drowning-e1770912733152.jpg
END:VEVENT
BEGIN:VEVENT
DTSTART;TZID=America/New_York:20260324T170000
DTEND;TZID=America/New_York:20260324T190000
DTSTAMP:20260419T121740
CREATED:20260203T141411Z
LAST-MODIFIED:20260203T141620Z
UID:10044715-1774371600-1774378800@buckscountyparent.com
SUMMARY:Kids Clubs at Salvation Army Levittown
DESCRIPTION:Kids Clubs at The Salvation Army A welcoming and fun space for children in grades 1–6 to learn\, grow\, and connect. Activities include art\, music\, cooking\, sports\, and weekly Bible lessons. A kid-friendly dinner is provided each session. \n\nWhen: Tuesday evenings\, 5:00–7:00 PM\nWhere: The Salvation Army\, 215 Appletree Drive\, Levittown\, PA 19055\nCost: $10 per child for the year (due within the first month)\nCapacity: Limited to 40 children
URL:https://buckscountyparent.com/event/kids-clubs-at-salvation-army-levittown/2026-03-24/
LOCATION:Salvation Army Levittown\, 215 Appletree Dr.\, Levittown\, PA\, 19055\, United States
CATEGORIES:Bucks County Events,Family Event,Kid Event
ATTACH;FMTTYPE=image/jpeg:https://buckscountyparent.com/wp-content/uploads/2026/02/Tuesday-evenings-at-Salvation-Army-e1770128026384.jpg
END:VEVENT
BEGIN:VEVENT
DTSTART;TZID=America/New_York:20260320T150000
DTEND;TZID=America/New_York:20260320T164500
DTSTAMP:20260419T121740
CREATED:20260226T150830Z
LAST-MODIFIED:20260226T150830Z
UID:10044985-1774018800-1774025100@buckscountyparent.com
SUMMARY:Family Movie: A Minecraft Movie (2025) at Levittown Library
DESCRIPTION:Join Levittown Library for Family Movie Day! They will be watching A Minecraft Movie! Minecraft themed activities will be available to complete during the movie. You may also earn your Minecrafter badge as you watch the movie! \n\n\n\n\n\n\n\n\n\n\n\n\n\n\n 
URL:https://buckscountyparent.com/event/family-movie-a-minecraft-movie-2025-at-levittown-library/
LOCATION:Bucks County Free Library – Levittown\, 7311 New Falls Rd\, Levittown\, PA\, 19055
CATEGORIES:At the Library,Bucks County Events,Free,Kid Event
ATTACH;FMTTYPE=image/jpeg:https://buckscountyparent.com/wp-content/uploads/2026/02/EVENT-Minecraft-the-Movie-e1772118479474.jpg
END:VEVENT
BEGIN:VEVENT
DTSTART;TZID=America/New_York:20260317T170000
DTEND;TZID=America/New_York:20260317T190000
DTSTAMP:20260419T121740
CREATED:20260203T141411Z
LAST-MODIFIED:20260203T141620Z
UID:10044714-1773766800-1773774000@buckscountyparent.com
SUMMARY:Kids Clubs at Salvation Army Levittown
DESCRIPTION:Kids Clubs at The Salvation Army A welcoming and fun space for children in grades 1–6 to learn\, grow\, and connect. Activities include art\, music\, cooking\, sports\, and weekly Bible lessons. A kid-friendly dinner is provided each session. \n\nWhen: Tuesday evenings\, 5:00–7:00 PM\nWhere: The Salvation Army\, 215 Appletree Drive\, Levittown\, PA 19055\nCost: $10 per child for the year (due within the first month)\nCapacity: Limited to 40 children
URL:https://buckscountyparent.com/event/kids-clubs-at-salvation-army-levittown/2026-03-17/
LOCATION:Salvation Army Levittown\, 215 Appletree Dr.\, Levittown\, PA\, 19055\, United States
CATEGORIES:Bucks County Events,Family Event,Kid Event
ATTACH;FMTTYPE=image/jpeg:https://buckscountyparent.com/wp-content/uploads/2026/02/Tuesday-evenings-at-Salvation-Army-e1770128026384.jpg
END:VEVENT
BEGIN:VEVENT
DTSTART;TZID=America/New_York:20260314T103000
DTEND;TZID=America/New_York:20260314T113000
DTSTAMP:20260419T121740
CREATED:20260219T172119Z
LAST-MODIFIED:20260223T160900Z
UID:10044927-1773484200-1773487800@buckscountyparent.com
SUMMARY:Bucks County St. Patrick’s Day Parade
DESCRIPTION:The 2026 Bucks County St. Patrick’s Day Parade will kick off on Match 14th at 10:30 am. The parade route begins at Conwell-Egan Catholic High School and ends at the Ball Fields on New Falls Road.
URL:https://buckscountyparent.com/event/bucks-county-st-patricks-day-parade-2/
LOCATION:Conwell-Egan Catholic High School\, 611 Wistar Road\, Fairless Hills\, PA\, 19030\, United States
CATEGORIES:Bucks County Events,St. Patrick's Day
ATTACH;FMTTYPE=image/jpeg:https://buckscountyparent.com/wp-content/uploads/2026/02/Bucks-County-St.-Patricks-Day-Parade.jpg
END:VEVENT
BEGIN:VEVENT
DTSTART;TZID=America/New_York:20260310T170000
DTEND;TZID=America/New_York:20260310T190000
DTSTAMP:20260419T121740
CREATED:20260203T141411Z
LAST-MODIFIED:20260203T141620Z
UID:10044713-1773162000-1773169200@buckscountyparent.com
SUMMARY:Kids Clubs at Salvation Army Levittown
DESCRIPTION:Kids Clubs at The Salvation Army A welcoming and fun space for children in grades 1–6 to learn\, grow\, and connect. Activities include art\, music\, cooking\, sports\, and weekly Bible lessons. A kid-friendly dinner is provided each session. \n\nWhen: Tuesday evenings\, 5:00–7:00 PM\nWhere: The Salvation Army\, 215 Appletree Drive\, Levittown\, PA 19055\nCost: $10 per child for the year (due within the first month)\nCapacity: Limited to 40 children
URL:https://buckscountyparent.com/event/kids-clubs-at-salvation-army-levittown/2026-03-10/
LOCATION:Salvation Army Levittown\, 215 Appletree Dr.\, Levittown\, PA\, 19055\, United States
CATEGORIES:Bucks County Events,Family Event,Kid Event
ATTACH;FMTTYPE=image/jpeg:https://buckscountyparent.com/wp-content/uploads/2026/02/Tuesday-evenings-at-Salvation-Army-e1770128026384.jpg
END:VEVENT
BEGIN:VEVENT
DTSTART;TZID=America/New_York:20260303T170000
DTEND;TZID=America/New_York:20260303T190000
DTSTAMP:20260419T121740
CREATED:20260203T141411Z
LAST-MODIFIED:20260203T141620Z
UID:10044712-1772557200-1772564400@buckscountyparent.com
SUMMARY:Kids Clubs at Salvation Army Levittown
DESCRIPTION:Kids Clubs at The Salvation Army A welcoming and fun space for children in grades 1–6 to learn\, grow\, and connect. Activities include art\, music\, cooking\, sports\, and weekly Bible lessons. A kid-friendly dinner is provided each session. \n\nWhen: Tuesday evenings\, 5:00–7:00 PM\nWhere: The Salvation Army\, 215 Appletree Drive\, Levittown\, PA 19055\nCost: $10 per child for the year (due within the first month)\nCapacity: Limited to 40 children
URL:https://buckscountyparent.com/event/kids-clubs-at-salvation-army-levittown/2026-03-03/
LOCATION:Salvation Army Levittown\, 215 Appletree Dr.\, Levittown\, PA\, 19055\, United States
CATEGORIES:Bucks County Events,Family Event,Kid Event
ATTACH;FMTTYPE=image/jpeg:https://buckscountyparent.com/wp-content/uploads/2026/02/Tuesday-evenings-at-Salvation-Army-e1770128026384.jpg
END:VEVENT
BEGIN:VEVENT
DTSTART;TZID=America/New_York:20260301T090000
DTEND;TZID=America/New_York:20260301T150000
DTSTAMP:20260419T121740
CREATED:20260211T191150Z
LAST-MODIFIED:20260211T191150Z
UID:10044853-1772355600-1772377200@buckscountyparent.com
SUMMARY:Spring Craft Fair at Conwell Egan High School
DESCRIPTION:Join Conwell Egan High School for crafts\, yummy Spring and Easter themed treats\, as well as coffee! \n  \n  \nMarch 1\, 2026; 9am-3pm
URL:https://buckscountyparent.com/event/spring-craft-fair-at-conwell-egan-high-school/
LOCATION:Conwell-Egan Catholic High School\, 611 Wistar Road\, Fairless Hills\, PA\, 19030\, United States
CATEGORIES:Bucks County Events,Community Event,Festivals Fairs Carnivals,Spring
ATTACH;FMTTYPE=image/jpeg:https://buckscountyparent.com/wp-content/uploads/2026/02/400x300_opt_spring-craft-fair.jpeg
END:VEVENT
BEGIN:VEVENT
DTSTART;TZID=America/New_York:20260224T170000
DTEND;TZID=America/New_York:20260224T190000
DTSTAMP:20260419T121740
CREATED:20260203T141411Z
LAST-MODIFIED:20260203T141620Z
UID:10044711-1771952400-1771959600@buckscountyparent.com
SUMMARY:Kids Clubs at Salvation Army Levittown
DESCRIPTION:Kids Clubs at The Salvation Army A welcoming and fun space for children in grades 1–6 to learn\, grow\, and connect. Activities include art\, music\, cooking\, sports\, and weekly Bible lessons. A kid-friendly dinner is provided each session. \n\nWhen: Tuesday evenings\, 5:00–7:00 PM\nWhere: The Salvation Army\, 215 Appletree Drive\, Levittown\, PA 19055\nCost: $10 per child for the year (due within the first month)\nCapacity: Limited to 40 children
URL:https://buckscountyparent.com/event/kids-clubs-at-salvation-army-levittown/2026-02-24/
LOCATION:Salvation Army Levittown\, 215 Appletree Dr.\, Levittown\, PA\, 19055\, United States
CATEGORIES:Bucks County Events,Family Event,Kid Event
ATTACH;FMTTYPE=image/jpeg:https://buckscountyparent.com/wp-content/uploads/2026/02/Tuesday-evenings-at-Salvation-Army-e1770128026384.jpg
END:VEVENT
BEGIN:VEVENT
DTSTART;TZID=America/New_York:20260217T170000
DTEND;TZID=America/New_York:20260217T190000
DTSTAMP:20260419T121740
CREATED:20260203T141411Z
LAST-MODIFIED:20260203T141620Z
UID:10044710-1771347600-1771354800@buckscountyparent.com
SUMMARY:Kids Clubs at Salvation Army Levittown
DESCRIPTION:Kids Clubs at The Salvation Army A welcoming and fun space for children in grades 1–6 to learn\, grow\, and connect. Activities include art\, music\, cooking\, sports\, and weekly Bible lessons. A kid-friendly dinner is provided each session. \n\nWhen: Tuesday evenings\, 5:00–7:00 PM\nWhere: The Salvation Army\, 215 Appletree Drive\, Levittown\, PA 19055\nCost: $10 per child for the year (due within the first month)\nCapacity: Limited to 40 children
URL:https://buckscountyparent.com/event/kids-clubs-at-salvation-army-levittown/2026-02-17/
LOCATION:Salvation Army Levittown\, 215 Appletree Dr.\, Levittown\, PA\, 19055\, United States
CATEGORIES:Bucks County Events,Family Event,Kid Event
ATTACH;FMTTYPE=image/jpeg:https://buckscountyparent.com/wp-content/uploads/2026/02/Tuesday-evenings-at-Salvation-Army-e1770128026384.jpg
END:VEVENT
BEGIN:VEVENT
DTSTART;TZID=America/New_York:20260210T170000
DTEND;TZID=America/New_York:20260210T190000
DTSTAMP:20260419T121740
CREATED:20260203T141411Z
LAST-MODIFIED:20260203T141620Z
UID:10044709-1770742800-1770750000@buckscountyparent.com
SUMMARY:Kids Clubs at Salvation Army Levittown
DESCRIPTION:Kids Clubs at The Salvation Army A welcoming and fun space for children in grades 1–6 to learn\, grow\, and connect. Activities include art\, music\, cooking\, sports\, and weekly Bible lessons. A kid-friendly dinner is provided each session. \n\nWhen: Tuesday evenings\, 5:00–7:00 PM\nWhere: The Salvation Army\, 215 Appletree Drive\, Levittown\, PA 19055\nCost: $10 per child for the year (due within the first month)\nCapacity: Limited to 40 children
URL:https://buckscountyparent.com/event/kids-clubs-at-salvation-army-levittown/2026-02-10/
LOCATION:Salvation Army Levittown\, 215 Appletree Dr.\, Levittown\, PA\, 19055\, United States
CATEGORIES:Bucks County Events,Family Event,Kid Event
ATTACH;FMTTYPE=image/jpeg:https://buckscountyparent.com/wp-content/uploads/2026/02/Tuesday-evenings-at-Salvation-Army-e1770128026384.jpg
END:VEVENT
BEGIN:VEVENT
DTSTART;TZID=America/New_York:20260201T130000
DTEND;TZID=America/New_York:20260201T150000
DTSTAMP:20260419T121740
CREATED:20260126T144704Z
LAST-MODIFIED:20260126T144704Z
UID:10044670-1769950800-1769958000@buckscountyparent.com
SUMMARY:Musical Petting Zoo at Middletown Twp Community Center
DESCRIPTION:Keep Music Alive invites families to a free\, fun\, and hands‑on Musical Instrument Petting Zoo at the Middletown Township Community Center in Levittown on Sunday\, February 1 from 1:00–2:30 PM. \nChildren of all ages can explore more than 50 instruments\, including acoustic and electric guitars\, ukuleles\, keyboards\, and a wide variety of percussion. Sponsored by R&M Music Studios in Langhorne\, PA.
URL:https://buckscountyparent.com/event/musical-petting-zoo-at-middletown-twp-community-center/
LOCATION:Middletown Community Center\, 2140 Trenton Rd.\, Levittown\, PA\, 19056\, United States
CATEGORIES:Bucks County Events,Family Event,Free,Kid Event
ATTACH;FMTTYPE=image/jpeg:https://buckscountyparent.com/wp-content/uploads/2026/01/Musical-Petting-Zoo-1.jpg
END:VEVENT
BEGIN:VEVENT
DTSTART;TZID=America/New_York:20250905T190000
DTEND;TZID=America/New_York:20250907T120000
DTSTAMP:20260419T121740
CREATED:20250611T130322Z
LAST-MODIFIED:20250611T130322Z
UID:10040796-1757098800-1757246400@buckscountyparent.com
SUMMARY:L'il Angels Consignment Sale - FALL Event 2025
DESCRIPTION:Join L’il Angels Consignment Sale in 𝐒𝐄𝐏𝐓𝐄𝐌𝐁𝐄𝐑 for their Fall/Winter Sale Event! \nL’il Angels is a pop up children’s and maternity consignment shop open 3 days twice each year – Spring and Fall. Located in Bensalem PA they bring our surrounding communities together to 𝑆𝐻𝑂𝑃-𝑆𝐸𝐿𝐿-𝑆𝐴𝑉𝐸 through parenthood with Bucks County growing families! \nGet your early holiday shopping done on a budget\, grab up those cold weather essentials your kiddos need\, and spend less for it all – leaving room for other household needs! \n𝗦𝗖𝗛𝗘𝗗𝗨𝗟𝗘 𝗢𝗙 𝗘𝗩𝗘𝗡𝗧𝗦 \nPublic Sale – FREE ENTRY – No Pass Required \nSaturday\, 𝐒𝐄𝐏𝐓 𝟔: 𝟕𝐚𝐦-𝟐𝐩𝐦 \nSunday\, 𝐒𝐄𝐏𝐓 𝟕: 𝟖𝐚𝐦-𝟏𝟐𝐩𝐦\n*Public 50% Off Sale – Discounted items will say REDUCE on the tag \nSunday\, 𝐒𝐄𝐏𝐓 𝟕: 𝟐𝐩𝐦-𝟑𝐩𝐦 Bag Sale\n*$15 Fill-A-Bag – Bag Sale takes place in a smaller separate room and will consist of items that were deemed to be donated at 12pm. Access May Be LIMITED due to space \n*******\nVIP PreSale Pass Entry – PASS REQUIRED TO ENTER\n~Passes on sale 𝐉𝐔𝐋𝐘 𝟐𝟓𝐭𝐡 at 9am – Check our website for details!~ \nFriday\, 𝐒𝐄𝐏𝐓 𝟓: 𝟕𝐩𝐦-𝟗𝐩𝐦\n*Shop before the public sale opens \nSaturday\, 𝐒𝐄𝐏𝐓 𝟔: 𝟐𝐩𝐦-𝟒𝐩𝐦\n*Early 50% Off Sale – Discounted items will say REDUCE on the tag \n******* \n𝐼𝑛𝑡𝑒𝑟𝑒𝑠𝑡𝑒𝑑 𝑖𝑛 𝐶𝑜𝑛𝑠𝑖𝑔𝑛𝑖𝑛𝑔? 𝐶ℎ𝑒𝑐𝑘 𝑡ℎ𝑒 “𝐶𝑜𝑛𝑠𝑖𝑔𝑛 𝑊𝑖𝑡ℎ 𝑈𝑠” 𝑡𝑎𝑏 𝑜𝑛 𝑤𝑒𝑏𝑠𝑖𝑡𝑒 𝑓𝑜𝑟 𝑚𝑜𝑟𝑒 𝑑𝑒𝑡𝑎𝑖𝑙𝑠! 𝑅𝑒𝑔𝑖𝑠𝑡𝑟𝑎𝑡𝑖𝑜𝑛 𝑜𝑝𝑒𝑛𝑠 𝐉𝐔𝐍𝐄 𝟏𝟑𝐭𝐡 𝑎𝑡 9𝑎𝑚!
URL:https://buckscountyparent.com/event/lil-angels-consignment-sale-fall-event-2025/
LOCATION:St Ephrem Church\, 5400 Hulmeville Road\, Bensalem\, PA\, 19020\, United States
CATEGORIES:Bucks County Events,Community Event,Family Event
ATTACH;FMTTYPE=image/png:https://buckscountyparent.com/wp-content/uploads/2025/06/F25-FB-Event-Cover-scaled.png
ORGANIZER;CN="Lil Angels Consignment Sale":MAILTO:molly@lilangelsconsignment.com
END:VEVENT
END:VCALENDAR