BEGIN:VCALENDAR
VERSION:2.0
PRODID:-//Bucks County Parent - ECPv6.15.20//NONSGML v1.0//EN
CALSCALE:GREGORIAN
METHOD:PUBLISH
X-ORIGINAL-URL:https://buckscountyparent.com
X-WR-CALDESC:Events for Bucks County Parent
REFRESH-INTERVAL;VALUE=DURATION:PT1H
X-Robots-Tag:noindex
X-PUBLISHED-TTL:PT1H
BEGIN:VTIMEZONE
TZID:America/New_York
BEGIN:DAYLIGHT
TZOFFSETFROM:-0500
TZOFFSETTO:-0400
TZNAME:EDT
DTSTART:20250309T070000
END:DAYLIGHT
BEGIN:STANDARD
TZOFFSETFROM:-0400
TZOFFSETTO:-0500
TZNAME:EST
DTSTART:20251102T060000
END:STANDARD
BEGIN:DAYLIGHT
TZOFFSETFROM:-0500
TZOFFSETTO:-0400
TZNAME:EDT
DTSTART:20260308T070000
END:DAYLIGHT
BEGIN:STANDARD
TZOFFSETFROM:-0400
TZOFFSETTO:-0500
TZNAME:EST
DTSTART:20261101T060000
END:STANDARD
BEGIN:DAYLIGHT
TZOFFSETFROM:-0500
TZOFFSETTO:-0400
TZNAME:EDT
DTSTART:20270314T070000
END:DAYLIGHT
BEGIN:STANDARD
TZOFFSETFROM:-0400
TZOFFSETTO:-0500
TZNAME:EST
DTSTART:20271107T060000
END:STANDARD
END:VTIMEZONE
BEGIN:VEVENT
DTSTART;TZID=America/New_York:20260425T100000
DTEND;TZID=America/New_York:20260425T130000
DTSTAMP:20260422T082533
CREATED:20260403T192101Z
LAST-MODIFIED:20260403T192101Z
UID:10045431-1777111200-1777122000@buckscountyparent.com
SUMMARY:Earth Day in Doylestown Borough
DESCRIPTION:The Doylestown Borough Environmental Advisory Council is hosting an Earth Day event offering activities and info promoting environmental sustainability in our community!\n\n\nHighlights include:\nNative Plant Giveaway\nFace Painting ($)\nKids Crafts (free!)\nGames\, Music\, and More!\n\n\nNo need to RSVP – stop by any time!\nSaturday\, April 25\n10:00 AM – 1:00 PM
URL:https://buckscountyparent.com/event/earth-day-in-doylestown-borough/
LOCATION:Broad Commons Park\, 10 Doyle St\, Doylestown\, PA\, 18901\, United States
CATEGORIES:Community Event,Earth Day
ATTACH;FMTTYPE=image/jpeg:https://buckscountyparent.com/wp-content/uploads/2026/04/Event-Earth-Day-Doylestown-Borough-e1775244027780.jpg
END:VEVENT
END:VCALENDAR