BEGIN:VCALENDAR
VERSION:2.0
PRODID:-//Bucks County Parent - ECPv6.15.20//NONSGML v1.0//EN
CALSCALE:GREGORIAN
METHOD:PUBLISH
X-WR-CALNAME:Bucks County Parent
X-ORIGINAL-URL:https://buckscountyparent.com
X-WR-CALDESC:Events for Bucks County Parent
REFRESH-INTERVAL;VALUE=DURATION:PT1H
X-Robots-Tag:noindex
X-PUBLISHED-TTL:PT1H
BEGIN:VTIMEZONE
TZID:America/New_York
BEGIN:DAYLIGHT
TZOFFSETFROM:-0500
TZOFFSETTO:-0400
TZNAME:EDT
DTSTART:20250309T070000
END:DAYLIGHT
BEGIN:STANDARD
TZOFFSETFROM:-0400
TZOFFSETTO:-0500
TZNAME:EST
DTSTART:20251102T060000
END:STANDARD
BEGIN:DAYLIGHT
TZOFFSETFROM:-0500
TZOFFSETTO:-0400
TZNAME:EDT
DTSTART:20260308T070000
END:DAYLIGHT
BEGIN:STANDARD
TZOFFSETFROM:-0400
TZOFFSETTO:-0500
TZNAME:EST
DTSTART:20261101T060000
END:STANDARD
BEGIN:DAYLIGHT
TZOFFSETFROM:-0500
TZOFFSETTO:-0400
TZNAME:EDT
DTSTART:20270314T070000
END:DAYLIGHT
BEGIN:STANDARD
TZOFFSETFROM:-0400
TZOFFSETTO:-0500
TZNAME:EST
DTSTART:20271107T060000
END:STANDARD
END:VTIMEZONE
BEGIN:VEVENT
DTSTART;TZID=America/New_York:20260301T140000
DTEND;TZID=America/New_York:20260301T151500
DTSTAMP:20260422T054737
CREATED:20260123T153615Z
LAST-MODIFIED:20260225T160702Z
UID:10044656-1772373600-1772378100@buckscountyparent.com
SUMMARY:Finding Nemo Jr. musical at Central Bucks East High School
DESCRIPTION:Central Bucks East Patriot Players present Finding Nemo JR.\, a student‑directed\, 60‑minute musical based on the beloved Pixar film. Follow Marlin\, Nemo\, Dory\, and friends on an ocean‑spanning adventure filled with family\, friendship\, and memorable songs. \nAll proceeds benefit the Make‑A‑Wish Foundation. Tickets go on sale January 16 at 8 AM. For accessible seating or questions\, contact patriotplayerstickets@gmail.com. Online sales close 5 hours before showtime; if available\, cash‑only tickets will be sold at the door 30 minutes prior. \n  \nFebruary 28\, 2026; 7pm \nMarch 1\, 2026; 2pm
URL:https://buckscountyparent.com/event/finding-nemo-jr-musical-at-central-bucks-highschool-east/2026-03-01/
LOCATION:Central Bucks East High School\, 2804 Holicong Road\, Doylestown\, PA\, 18902\, United States
CATEGORIES:Bucks County Events,Community Event,Family Event,Kid Event,Theatre and Performance Art
ATTACH;FMTTYPE=image/webp:https://buckscountyparent.com/wp-content/uploads/2026/01/event_photo.webp
END:VEVENT
END:VCALENDAR