BEGIN:VCALENDAR
VERSION:2.0
PRODID:-//Bucks County Parent - ECPv6.15.20//NONSGML v1.0//EN
CALSCALE:GREGORIAN
METHOD:PUBLISH
X-ORIGINAL-URL:https://buckscountyparent.com
X-WR-CALDESC:Events for Bucks County Parent
REFRESH-INTERVAL;VALUE=DURATION:PT1H
X-Robots-Tag:noindex
X-PUBLISHED-TTL:PT1H
BEGIN:VTIMEZONE
TZID:America/New_York
BEGIN:DAYLIGHT
TZOFFSETFROM:-0500
TZOFFSETTO:-0400
TZNAME:EDT
DTSTART:20250309T070000
END:DAYLIGHT
BEGIN:STANDARD
TZOFFSETFROM:-0400
TZOFFSETTO:-0500
TZNAME:EST
DTSTART:20251102T060000
END:STANDARD
BEGIN:DAYLIGHT
TZOFFSETFROM:-0500
TZOFFSETTO:-0400
TZNAME:EDT
DTSTART:20260308T070000
END:DAYLIGHT
BEGIN:STANDARD
TZOFFSETFROM:-0400
TZOFFSETTO:-0500
TZNAME:EST
DTSTART:20261101T060000
END:STANDARD
BEGIN:DAYLIGHT
TZOFFSETFROM:-0500
TZOFFSETTO:-0400
TZNAME:EDT
DTSTART:20270314T070000
END:DAYLIGHT
BEGIN:STANDARD
TZOFFSETFROM:-0400
TZOFFSETTO:-0500
TZNAME:EST
DTSTART:20271107T060000
END:STANDARD
END:VTIMEZONE
BEGIN:VEVENT
DTSTART;TZID=America/New_York:20260313T080000
DTEND;TZID=America/New_York:20260313T170000
DTSTAMP:20260421T042432
CREATED:20250311T215344Z
LAST-MODIFIED:20260219T161015Z
UID:10044924-1773388800-1773421200@buckscountyparent.com
SUMMARY:Hunterdon County Irish Festival
DESCRIPTION:The 2026 Hunterdon County Irish Festival returns March 13–15 at the historic Red Mill Museum Village in Clinton\, New Jersey\, hosted by the Friendly Sons of St. Patrick of Hunterdon County. As the county’s largest St. Patrick’s Day–focused charity event\, the festival celebrates Irish heritage while raising vital funds for local families\, children with disabilities\, and nonprofit organizations in need. \nThe weekend features live music\, high-energy performances\, delicious food\, family-friendly activities\, and the festive spirit of a true Irish village. Don’t miss the Children’s Day on March 14 from 11 a.m. to 3 p.m.\, a fun-filled day of games\, activities\, and entertainment\, presented by the Hunterdon County Rotary Clubs. Highlights also include food trucks\, festive beverages\, and the annual St. Patrick’s Day Parade through Clinton on March 14\, bringing together marching bands\, community groups\, and local organizations. \nAll events are rain or shine and take place in heated tents. \nFind all of the details and schedule of events here: https://fssphunterdon.com/irish-fest
URL:https://buckscountyparent.com/event/hunterdon-county-irish-festival-childrens-party/2026-03-13/1/
LOCATION:The Red Mill Museum Village\, 56 Main Street\, Clinton\, New Jersey\, 08809
CATEGORIES:St. Patrick's Day
ATTACH;FMTTYPE=image/jpeg:https://buckscountyparent.com/wp-content/uploads/2025/03/hunterdon-county-irish-festival.jpeg
END:VEVENT
BEGIN:VEVENT
DTSTART;TZID=America/New_York:20260313T173000
DTEND;TZID=America/New_York:20260313T210000
DTSTAMP:20260421T042432
CREATED:20250311T215344Z
LAST-MODIFIED:20260219T161015Z
UID:10044925-1773423000-1773435600@buckscountyparent.com
SUMMARY:Hunterdon County Irish Festival
DESCRIPTION:The 2026 Hunterdon County Irish Festival returns March 13–15 at the historic Red Mill Museum Village in Clinton\, New Jersey\, hosted by the Friendly Sons of St. Patrick of Hunterdon County. As the county’s largest St. Patrick’s Day–focused charity event\, the festival celebrates Irish heritage while raising vital funds for local families\, children with disabilities\, and nonprofit organizations in need. \nThe weekend features live music\, high-energy performances\, delicious food\, family-friendly activities\, and the festive spirit of a true Irish village. Don’t miss the Children’s Day on March 14 from 11 a.m. to 3 p.m.\, a fun-filled day of games\, activities\, and entertainment\, presented by the Hunterdon County Rotary Clubs. Highlights also include food trucks\, festive beverages\, and the annual St. Patrick’s Day Parade through Clinton on March 14\, bringing together marching bands\, community groups\, and local organizations. \nAll events are rain or shine and take place in heated tents. \nFind all of the details and schedule of events here: https://fssphunterdon.com/irish-fest
URL:https://buckscountyparent.com/event/hunterdon-county-irish-festival-childrens-party/2026-03-13/2/
LOCATION:The Red Mill Museum Village\, 56 Main Street\, Clinton\, New Jersey\, 08809
CATEGORIES:St. Patrick's Day
ATTACH;FMTTYPE=image/jpeg:https://buckscountyparent.com/wp-content/uploads/2025/03/hunterdon-county-irish-festival.jpeg
END:VEVENT
BEGIN:VEVENT
DTSTART;TZID=America/New_York:20260314T160000
DTEND;TZID=America/New_York:20260314T203000
DTSTAMP:20260421T042432
CREATED:20250311T215344Z
LAST-MODIFIED:20260219T161015Z
UID:10044926-1773504000-1773520200@buckscountyparent.com
SUMMARY:Hunterdon County Irish Festival
DESCRIPTION:The 2026 Hunterdon County Irish Festival returns March 13–15 at the historic Red Mill Museum Village in Clinton\, New Jersey\, hosted by the Friendly Sons of St. Patrick of Hunterdon County. As the county’s largest St. Patrick’s Day–focused charity event\, the festival celebrates Irish heritage while raising vital funds for local families\, children with disabilities\, and nonprofit organizations in need. \nThe weekend features live music\, high-energy performances\, delicious food\, family-friendly activities\, and the festive spirit of a true Irish village. Don’t miss the Children’s Day on March 14 from 11 a.m. to 3 p.m.\, a fun-filled day of games\, activities\, and entertainment\, presented by the Hunterdon County Rotary Clubs. Highlights also include food trucks\, festive beverages\, and the annual St. Patrick’s Day Parade through Clinton on March 14\, bringing together marching bands\, community groups\, and local organizations. \nAll events are rain or shine and take place in heated tents. \nFind all of the details and schedule of events here: https://fssphunterdon.com/irish-fest
URL:https://buckscountyparent.com/event/hunterdon-county-irish-festival-childrens-party/2026-03-14/
LOCATION:The Red Mill Museum Village\, 56 Main Street\, Clinton\, New Jersey\, 08809
CATEGORIES:St. Patrick's Day
ATTACH;FMTTYPE=image/jpeg:https://buckscountyparent.com/wp-content/uploads/2025/03/hunterdon-county-irish-festival.jpeg
END:VEVENT
BEGIN:VEVENT
DTSTART;TZID=America/New_York:20260315T140000
DTEND;TZID=America/New_York:20260315T163000
DTSTAMP:20260421T042432
CREATED:20250311T220123Z
LAST-MODIFIED:20260223T194942Z
UID:10035968-1773583200-1773592200@buckscountyparent.com
SUMMARY:2026 Hunterdon County St Patricks Day Parade
DESCRIPTION:Get ready to celebrate Irish pride at the 11th Annual Hunterdon County St. Patrick’s Day Parade! Hosted by The Friendly Sons of St. Patrick\, this festive event will feature: \n🎶 Six pipe & drum bands\n💃 Irish step dancers\n🐴 Live animals & fun surprises\n🍕Food trucks (Va Fa Napoli\, Spuddy Buddy\, Designer Dawgs\, Waffle Cabin)\n🍀 A sea of green and Irish cheer! \n🚨 Parade Route: The parade marches through historic Clinton\, offering the perfect backdrop for a day of fun with family and friends. \n**Parade starts at 3:00 pm (Pre-parade festivities start at 2:00 PM)
URL:https://buckscountyparent.com/event/2025-hunterdon-county-st-patricks-day-parade/
LOCATION:Clinton\, NJ\, Clinton\, New Jersey
CATEGORIES:St. Patrick's Day
ATTACH;FMTTYPE=image/jpeg:https://buckscountyparent.com/wp-content/uploads/2025/03/Hunterdon-County-St-Patrick-Day-Parade.jpeg
END:VEVENT
END:VCALENDAR