BEGIN:VCALENDAR
VERSION:2.0
PRODID:-//Bucks County Parent - ECPv6.15.20//NONSGML v1.0//EN
CALSCALE:GREGORIAN
METHOD:PUBLISH
X-ORIGINAL-URL:https://buckscountyparent.com
X-WR-CALDESC:Events for Bucks County Parent
REFRESH-INTERVAL;VALUE=DURATION:PT1H
X-Robots-Tag:noindex
X-PUBLISHED-TTL:PT1H
BEGIN:VTIMEZONE
TZID:America/New_York
BEGIN:DAYLIGHT
TZOFFSETFROM:-0500
TZOFFSETTO:-0400
TZNAME:EDT
DTSTART:20250309T070000
END:DAYLIGHT
BEGIN:STANDARD
TZOFFSETFROM:-0400
TZOFFSETTO:-0500
TZNAME:EST
DTSTART:20251102T060000
END:STANDARD
BEGIN:DAYLIGHT
TZOFFSETFROM:-0500
TZOFFSETTO:-0400
TZNAME:EDT
DTSTART:20260308T070000
END:DAYLIGHT
BEGIN:STANDARD
TZOFFSETFROM:-0400
TZOFFSETTO:-0500
TZNAME:EST
DTSTART:20261101T060000
END:STANDARD
BEGIN:DAYLIGHT
TZOFFSETFROM:-0500
TZOFFSETTO:-0400
TZNAME:EDT
DTSTART:20270314T070000
END:DAYLIGHT
BEGIN:STANDARD
TZOFFSETFROM:-0400
TZOFFSETTO:-0500
TZNAME:EST
DTSTART:20271107T060000
END:STANDARD
END:VTIMEZONE
BEGIN:VEVENT
DTSTART;TZID=America/New_York:20260312T190000
DTEND;TZID=America/New_York:20260312T220000
DTSTAMP:20260425T073805
CREATED:20260226T150003Z
LAST-MODIFIED:20260226T150003Z
UID:10044978-1773342000-1773352800@buckscountyparent.com
SUMMARY:Disney On Ice presents Frozen & Encanto Tickets at CURE Insurance Arena
DESCRIPTION:Join your Disney friends for Disney on Ice presenting Frozen and Encanto! \nAll guests ages 2 and older must have a valid ticket to attend. Guests ages 14 and older may not wear costumes. Character Experiences are available and include access to a private event with interactive activities and photo opportunities; both adults and children ages 2 and up must hold a Character Experience ticket and a Disney On Ice show ticket\, and children must be accompanied by an adult. \nVenue policies\, including health and safety protocols\, may change\, so checking the venue’s website for updates is recommended. All tickets are limited and subject to availability\, and prices may change. Additional event details and full Ticket Terms and Conditions can be found at DisneyOnIce.com.
URL:https://buckscountyparent.com/event/disney-on-ice-presents-frozen-encanto-tickets-at-cure-insurance-arena/2026-03-12/
LOCATION:CURE Insurance Arena\, 81 Hamilton Avenue\, Trenton\,\, PA\, 08611\, United States
CATEGORIES:Bucks County Events,Family Event,For The Whole Family,Kid Event,Theatre and Performance Art
ATTACH;FMTTYPE=image/jpeg:https://buckscountyparent.com/wp-content/uploads/2026/02/EVENT-Disney-on-Ice--e1772117836668.jpg
END:VEVENT
BEGIN:VEVENT
DTSTART;TZID=America/New_York:20260313T190000
DTEND;TZID=America/New_York:20260313T220000
DTSTAMP:20260425T073805
CREATED:20260226T150003Z
LAST-MODIFIED:20260226T150003Z
UID:10044979-1773428400-1773439200@buckscountyparent.com
SUMMARY:Disney On Ice presents Frozen & Encanto Tickets at CURE Insurance Arena
DESCRIPTION:Join your Disney friends for Disney on Ice presenting Frozen and Encanto! \nAll guests ages 2 and older must have a valid ticket to attend. Guests ages 14 and older may not wear costumes. Character Experiences are available and include access to a private event with interactive activities and photo opportunities; both adults and children ages 2 and up must hold a Character Experience ticket and a Disney On Ice show ticket\, and children must be accompanied by an adult. \nVenue policies\, including health and safety protocols\, may change\, so checking the venue’s website for updates is recommended. All tickets are limited and subject to availability\, and prices may change. Additional event details and full Ticket Terms and Conditions can be found at DisneyOnIce.com.
URL:https://buckscountyparent.com/event/disney-on-ice-presents-frozen-encanto-tickets-at-cure-insurance-arena/2026-03-13/
LOCATION:CURE Insurance Arena\, 81 Hamilton Avenue\, Trenton\,\, PA\, 08611\, United States
CATEGORIES:Bucks County Events,Family Event,For The Whole Family,Kid Event,Theatre and Performance Art
ATTACH;FMTTYPE=image/jpeg:https://buckscountyparent.com/wp-content/uploads/2026/02/EVENT-Disney-on-Ice--e1772117836668.jpg
END:VEVENT
BEGIN:VEVENT
DTSTART;TZID=America/New_York:20260314T100000
DTEND;TZID=America/New_York:20260314T120000
DTSTAMP:20260425T073805
CREATED:20260305T145712Z
LAST-MODIFIED:20260305T145712Z
UID:10045172-1773482400-1773489600@buckscountyparent.com
SUMMARY:DEAN Adventure Camps Open House at The Lawrenceville School
DESCRIPTION:Join DEAN Adventure Camps at The Lawrenceville School location for a morning of community and exploration. Meet the passionate team behind your child’s summer adventure\, ask all your questions\, and take part in a fun camp activity alongside other families. \nThis is a wonderful opportunity to connect\, get a feel for DEAN programs\, and get excited for the summer ahead. \nFree to attend and open to any families interested in learning more about DEAN Adventure Camps. The DEAN Team can’t wait to meet you and share what’s in store for an unforgettable summer!
URL:https://buckscountyparent.com/event/dean-adventure-camps-open-house-at-the-lawrenceville-school/
LOCATION:The Lawrenceville School\, 2500 Main Street\, Lawrenceville\, PA\, 08648\, United States
CATEGORIES:Community Event,For Kids Ages 11 – 14,For Kids Ages 4 – 6,For Kids Ages 7 – 10,For Kids Ages 8 – 10,For The Whole Family
ATTACH;FMTTYPE=image/jpeg:https://buckscountyparent.com/wp-content/uploads/2026/03/EVENT-DEAN-Adventure-Camp-Open-House-e1772722557465.jpeg
END:VEVENT
BEGIN:VEVENT
DTSTART;TZID=America/New_York:20260314T110000
DTEND;TZID=America/New_York:20260314T140000
DTSTAMP:20260425T073805
CREATED:20260226T150003Z
LAST-MODIFIED:20260226T150003Z
UID:10044980-1773486000-1773496800@buckscountyparent.com
SUMMARY:Disney On Ice presents Frozen & Encanto Tickets at CURE Insurance Arena
DESCRIPTION:Join your Disney friends for Disney on Ice presenting Frozen and Encanto! \nAll guests ages 2 and older must have a valid ticket to attend. Guests ages 14 and older may not wear costumes. Character Experiences are available and include access to a private event with interactive activities and photo opportunities; both adults and children ages 2 and up must hold a Character Experience ticket and a Disney On Ice show ticket\, and children must be accompanied by an adult. \nVenue policies\, including health and safety protocols\, may change\, so checking the venue’s website for updates is recommended. All tickets are limited and subject to availability\, and prices may change. Additional event details and full Ticket Terms and Conditions can be found at DisneyOnIce.com.
URL:https://buckscountyparent.com/event/disney-on-ice-presents-frozen-encanto-tickets-at-cure-insurance-arena/2026-03-14/1/
LOCATION:CURE Insurance Arena\, 81 Hamilton Avenue\, Trenton\,\, PA\, 08611\, United States
CATEGORIES:Bucks County Events,Family Event,For The Whole Family,Kid Event,Theatre and Performance Art
ATTACH;FMTTYPE=image/jpeg:https://buckscountyparent.com/wp-content/uploads/2026/02/EVENT-Disney-on-Ice--e1772117836668.jpg
END:VEVENT
BEGIN:VEVENT
DTSTART;TZID=America/New_York:20260314T110000
DTEND;TZID=America/New_York:20260314T150000
DTSTAMP:20260425T073805
CREATED:20260226T162924Z
LAST-MODIFIED:20260226T162924Z
UID:10044987-1773486000-1773500400@buckscountyparent.com
SUMMARY:PI Day Escape Room at the Southampton Library
DESCRIPTION:Celebrate Pi Day with a fun and challenging experience at the Southampton Free Library! Join them for themed escape rooms that playfully explore whether Pi Day is about pie or the famous mathematical constant. Participants will have 45 minutes to solve clues and escape the room. \nEvent Schedule: \n\n11:00 AM – Ages 5 and up\n2:00 PM – Kids only (ages 8 and up)\n3:00 PM – Teens and adults only
URL:https://buckscountyparent.com/event/pi-day-escape-room-at-the-southampton-library/
LOCATION:Bucks County Library- Southampton\, 947 Street Rd\, Southampton\, PA\, 18966
CATEGORIES:At the Library,Bucks County Events,For The Whole Family,Free,Kid Event
ATTACH;FMTTYPE=image/jpeg:https://buckscountyparent.com/wp-content/uploads/2026/02/EVENT-PI-Day-at-the-Library-e1772123307788.jpg
END:VEVENT
BEGIN:VEVENT
DTSTART;TZID=America/New_York:20260314T150000
DTEND;TZID=America/New_York:20260314T180000
DTSTAMP:20260425T073805
CREATED:20260226T150003Z
LAST-MODIFIED:20260226T150003Z
UID:10044981-1773500400-1773511200@buckscountyparent.com
SUMMARY:Disney On Ice presents Frozen & Encanto Tickets at CURE Insurance Arena
DESCRIPTION:Join your Disney friends for Disney on Ice presenting Frozen and Encanto! \nAll guests ages 2 and older must have a valid ticket to attend. Guests ages 14 and older may not wear costumes. Character Experiences are available and include access to a private event with interactive activities and photo opportunities; both adults and children ages 2 and up must hold a Character Experience ticket and a Disney On Ice show ticket\, and children must be accompanied by an adult. \nVenue policies\, including health and safety protocols\, may change\, so checking the venue’s website for updates is recommended. All tickets are limited and subject to availability\, and prices may change. Additional event details and full Ticket Terms and Conditions can be found at DisneyOnIce.com.
URL:https://buckscountyparent.com/event/disney-on-ice-presents-frozen-encanto-tickets-at-cure-insurance-arena/2026-03-14/2/
LOCATION:CURE Insurance Arena\, 81 Hamilton Avenue\, Trenton\,\, PA\, 08611\, United States
CATEGORIES:Bucks County Events,Family Event,For The Whole Family,Kid Event,Theatre and Performance Art
ATTACH;FMTTYPE=image/jpeg:https://buckscountyparent.com/wp-content/uploads/2026/02/EVENT-Disney-on-Ice--e1772117836668.jpg
END:VEVENT
BEGIN:VEVENT
DTSTART;TZID=America/New_York:20260314T190000
DTEND;TZID=America/New_York:20260314T220000
DTSTAMP:20260425T073805
CREATED:20260226T150003Z
LAST-MODIFIED:20260226T150003Z
UID:10044982-1773514800-1773525600@buckscountyparent.com
SUMMARY:Disney On Ice presents Frozen & Encanto Tickets at CURE Insurance Arena
DESCRIPTION:Join your Disney friends for Disney on Ice presenting Frozen and Encanto! \nAll guests ages 2 and older must have a valid ticket to attend. Guests ages 14 and older may not wear costumes. Character Experiences are available and include access to a private event with interactive activities and photo opportunities; both adults and children ages 2 and up must hold a Character Experience ticket and a Disney On Ice show ticket\, and children must be accompanied by an adult. \nVenue policies\, including health and safety protocols\, may change\, so checking the venue’s website for updates is recommended. All tickets are limited and subject to availability\, and prices may change. Additional event details and full Ticket Terms and Conditions can be found at DisneyOnIce.com.
URL:https://buckscountyparent.com/event/disney-on-ice-presents-frozen-encanto-tickets-at-cure-insurance-arena/2026-03-14/3/
LOCATION:CURE Insurance Arena\, 81 Hamilton Avenue\, Trenton\,\, PA\, 08611\, United States
CATEGORIES:Bucks County Events,Family Event,For The Whole Family,Kid Event,Theatre and Performance Art
ATTACH;FMTTYPE=image/jpeg:https://buckscountyparent.com/wp-content/uploads/2026/02/EVENT-Disney-on-Ice--e1772117836668.jpg
END:VEVENT
BEGIN:VEVENT
DTSTART;TZID=America/New_York:20260315T110000
DTEND;TZID=America/New_York:20260315T140000
DTSTAMP:20260425T073805
CREATED:20260226T150003Z
LAST-MODIFIED:20260226T150003Z
UID:10044983-1773572400-1773583200@buckscountyparent.com
SUMMARY:Disney On Ice presents Frozen & Encanto Tickets at CURE Insurance Arena
DESCRIPTION:Join your Disney friends for Disney on Ice presenting Frozen and Encanto! \nAll guests ages 2 and older must have a valid ticket to attend. Guests ages 14 and older may not wear costumes. Character Experiences are available and include access to a private event with interactive activities and photo opportunities; both adults and children ages 2 and up must hold a Character Experience ticket and a Disney On Ice show ticket\, and children must be accompanied by an adult. \nVenue policies\, including health and safety protocols\, may change\, so checking the venue’s website for updates is recommended. All tickets are limited and subject to availability\, and prices may change. Additional event details and full Ticket Terms and Conditions can be found at DisneyOnIce.com.
URL:https://buckscountyparent.com/event/disney-on-ice-presents-frozen-encanto-tickets-at-cure-insurance-arena/2026-03-15/1/
LOCATION:CURE Insurance Arena\, 81 Hamilton Avenue\, Trenton\,\, PA\, 08611\, United States
CATEGORIES:Bucks County Events,Family Event,For The Whole Family,Kid Event,Theatre and Performance Art
ATTACH;FMTTYPE=image/jpeg:https://buckscountyparent.com/wp-content/uploads/2026/02/EVENT-Disney-on-Ice--e1772117836668.jpg
END:VEVENT
BEGIN:VEVENT
DTSTART;TZID=America/New_York:20260315T150000
DTEND;TZID=America/New_York:20260315T180000
DTSTAMP:20260425T073805
CREATED:20260226T150003Z
LAST-MODIFIED:20260226T150003Z
UID:10044984-1773586800-1773597600@buckscountyparent.com
SUMMARY:Disney On Ice presents Frozen & Encanto Tickets at CURE Insurance Arena
DESCRIPTION:Join your Disney friends for Disney on Ice presenting Frozen and Encanto! \nAll guests ages 2 and older must have a valid ticket to attend. Guests ages 14 and older may not wear costumes. Character Experiences are available and include access to a private event with interactive activities and photo opportunities; both adults and children ages 2 and up must hold a Character Experience ticket and a Disney On Ice show ticket\, and children must be accompanied by an adult. \nVenue policies\, including health and safety protocols\, may change\, so checking the venue’s website for updates is recommended. All tickets are limited and subject to availability\, and prices may change. Additional event details and full Ticket Terms and Conditions can be found at DisneyOnIce.com.
URL:https://buckscountyparent.com/event/disney-on-ice-presents-frozen-encanto-tickets-at-cure-insurance-arena/2026-03-15/2/
LOCATION:CURE Insurance Arena\, 81 Hamilton Avenue\, Trenton\,\, PA\, 08611\, United States
CATEGORIES:Bucks County Events,Family Event,For The Whole Family,Kid Event,Theatre and Performance Art
ATTACH;FMTTYPE=image/jpeg:https://buckscountyparent.com/wp-content/uploads/2026/02/EVENT-Disney-on-Ice--e1772117836668.jpg
END:VEVENT
END:VCALENDAR