BEGIN:VCALENDAR
VERSION:2.0
PRODID:-//Bucks County Parent - ECPv6.15.20//NONSGML v1.0//EN
CALSCALE:GREGORIAN
METHOD:PUBLISH
X-WR-CALNAME:Bucks County Parent
X-ORIGINAL-URL:https://buckscountyparent.com
X-WR-CALDESC:Events for Bucks County Parent
REFRESH-INTERVAL;VALUE=DURATION:PT1H
X-Robots-Tag:noindex
X-PUBLISHED-TTL:PT1H
BEGIN:VTIMEZONE
TZID:America/New_York
BEGIN:DAYLIGHT
TZOFFSETFROM:-0500
TZOFFSETTO:-0400
TZNAME:EDT
DTSTART:20250309T070000
END:DAYLIGHT
BEGIN:STANDARD
TZOFFSETFROM:-0400
TZOFFSETTO:-0500
TZNAME:EST
DTSTART:20251102T060000
END:STANDARD
BEGIN:DAYLIGHT
TZOFFSETFROM:-0500
TZOFFSETTO:-0400
TZNAME:EDT
DTSTART:20260308T070000
END:DAYLIGHT
BEGIN:STANDARD
TZOFFSETFROM:-0400
TZOFFSETTO:-0500
TZNAME:EST
DTSTART:20261101T060000
END:STANDARD
BEGIN:DAYLIGHT
TZOFFSETFROM:-0500
TZOFFSETTO:-0400
TZNAME:EDT
DTSTART:20270314T070000
END:DAYLIGHT
BEGIN:STANDARD
TZOFFSETFROM:-0400
TZOFFSETTO:-0500
TZNAME:EST
DTSTART:20271107T060000
END:STANDARD
END:VTIMEZONE
BEGIN:VEVENT
DTSTART;TZID=America/New_York:20260328T190000
DTEND;TZID=America/New_York:20260328T203000
DTSTAMP:20260421T041046
CREATED:20260305T181323Z
LAST-MODIFIED:20260305T181420Z
UID:10045181-1774724400-1774729800@buckscountyparent.com
SUMMARY:Film: It Happens When We Sing\, Dessert\, Singalong
DESCRIPTION:On Saturday\, March 28th from 7-8:30pm\, Filmmaker Polly Wells from Toronto\, Ontario Canada to premier her new film “It Happens When We Sing\,” here in Bucks County. Polly will talk briefly about her inspiration for the film and after the 28 minute film and a dessert-y break\, we’ll enjoy a group sing led by local musician Amy Duckett Wagner on guitar. The event is free and open to the public. All ages are welcome to join in\, sing\, and bring an instrument or a friend; songbooks provided. The Meetinghouse is handicapped accessible.
URL:https://buckscountyparent.com/event/135173/
LOCATION:Fallsington Quaker Meetinghouse Social Hall\, 9300 New Falls Road\, Fallsington\, PA\, 19054\, United States
CATEGORIES:Bucks County Events,Community Event,For Parents,For The Whole Family
ATTACH;FMTTYPE=image/jpeg:https://buckscountyparent.com/wp-content/uploads/2026/03/EVENT-It-happens-when-we-sing.jpg
END:VEVENT
END:VCALENDAR