BEGIN:VCALENDAR
VERSION:2.0
PRODID:-//Bucks County Parent - ECPv6.15.20//NONSGML v1.0//EN
CALSCALE:GREGORIAN
METHOD:PUBLISH
X-WR-CALNAME:Bucks County Parent
X-ORIGINAL-URL:https://buckscountyparent.com
X-WR-CALDESC:Events for Bucks County Parent
REFRESH-INTERVAL;VALUE=DURATION:PT1H
X-Robots-Tag:noindex
X-PUBLISHED-TTL:PT1H
BEGIN:VTIMEZONE
TZID:America/New_York
BEGIN:DAYLIGHT
TZOFFSETFROM:-0500
TZOFFSETTO:-0400
TZNAME:EDT
DTSTART:20250309T070000
END:DAYLIGHT
BEGIN:STANDARD
TZOFFSETFROM:-0400
TZOFFSETTO:-0500
TZNAME:EST
DTSTART:20251102T060000
END:STANDARD
BEGIN:DAYLIGHT
TZOFFSETFROM:-0500
TZOFFSETTO:-0400
TZNAME:EDT
DTSTART:20260308T070000
END:DAYLIGHT
BEGIN:STANDARD
TZOFFSETFROM:-0400
TZOFFSETTO:-0500
TZNAME:EST
DTSTART:20261101T060000
END:STANDARD
BEGIN:DAYLIGHT
TZOFFSETFROM:-0500
TZOFFSETTO:-0400
TZNAME:EDT
DTSTART:20270314T070000
END:DAYLIGHT
BEGIN:STANDARD
TZOFFSETFROM:-0400
TZOFFSETTO:-0500
TZNAME:EST
DTSTART:20271107T060000
END:STANDARD
END:VTIMEZONE
BEGIN:VEVENT
DTSTART;TZID=America/New_York:20260502T100000
DTEND;TZID=America/New_York:20260502T130000
DTSTAMP:20260419T091029
CREATED:20260413T145002Z
LAST-MODIFIED:20260413T145002Z
UID:10045458-1777716000-1777726800@buckscountyparent.com
SUMMARY:Kids Market at the Hatboro Community Market
DESCRIPTION:Does your kid have a business dream? This is a unique opportunity for them to run their own small business\, sell to real customers\, and have fun while bringing their ideas to life. \nJoin Kids Markets on Saturday\, May 2 from 10 am – 1 pm and jump into the vibrant energy at this Hatboro community event-filled with live music\, smiles\, and neighbors rallying to support talented\nyoung entrepreneurs! \nBooths are only $25! Register or learn more here:\nhttps://kidsmarkets.com/markets/hatboro-4
URL:https://buckscountyparent.com/event/kids-market-at-the-hatboro-community-market/
LOCATION:Miller Meadow Park\, 414 S York Road\, Hatboro\, 19040
CATEGORIES:For Kids Ages 11 – 14,For Kids Ages 15+,For Kids Ages 4 – 6,For Kids Ages 7 – 10
ATTACH;FMTTYPE=image/jpeg:https://buckscountyparent.com/wp-content/uploads/2026/04/EVENT-Hatboro-Kids-Market-event-e1776091728774.jpeg
END:VEVENT
END:VCALENDAR