BEGIN:VCALENDAR
VERSION:2.0
PRODID:-//Bucks County Parent - ECPv6.15.20//NONSGML v1.0//EN
CALSCALE:GREGORIAN
METHOD:PUBLISH
X-WR-CALNAME:Bucks County Parent
X-ORIGINAL-URL:https://buckscountyparent.com
X-WR-CALDESC:Events for Bucks County Parent
REFRESH-INTERVAL;VALUE=DURATION:PT1H
X-Robots-Tag:noindex
X-PUBLISHED-TTL:PT1H
BEGIN:VTIMEZONE
TZID:America/New_York
BEGIN:DAYLIGHT
TZOFFSETFROM:-0500
TZOFFSETTO:-0400
TZNAME:EDT
DTSTART:20250309T070000
END:DAYLIGHT
BEGIN:STANDARD
TZOFFSETFROM:-0400
TZOFFSETTO:-0500
TZNAME:EST
DTSTART:20251102T060000
END:STANDARD
BEGIN:DAYLIGHT
TZOFFSETFROM:-0500
TZOFFSETTO:-0400
TZNAME:EDT
DTSTART:20260308T070000
END:DAYLIGHT
BEGIN:STANDARD
TZOFFSETFROM:-0400
TZOFFSETTO:-0500
TZNAME:EST
DTSTART:20261101T060000
END:STANDARD
BEGIN:DAYLIGHT
TZOFFSETFROM:-0500
TZOFFSETTO:-0400
TZNAME:EDT
DTSTART:20270314T070000
END:DAYLIGHT
BEGIN:STANDARD
TZOFFSETFROM:-0400
TZOFFSETTO:-0500
TZNAME:EST
DTSTART:20271107T060000
END:STANDARD
END:VTIMEZONE
BEGIN:VEVENT
DTSTART;TZID=America/New_York:20260314T100000
DTEND;TZID=America/New_York:20260314T120000
DTSTAMP:20260425T074337
CREATED:20260305T145712Z
LAST-MODIFIED:20260305T145712Z
UID:10045172-1773482400-1773489600@buckscountyparent.com
SUMMARY:DEAN Adventure Camps Open House at The Lawrenceville School
DESCRIPTION:Join DEAN Adventure Camps at The Lawrenceville School location for a morning of community and exploration. Meet the passionate team behind your child’s summer adventure\, ask all your questions\, and take part in a fun camp activity alongside other families. \nThis is a wonderful opportunity to connect\, get a feel for DEAN programs\, and get excited for the summer ahead. \nFree to attend and open to any families interested in learning more about DEAN Adventure Camps. The DEAN Team can’t wait to meet you and share what’s in store for an unforgettable summer!
URL:https://buckscountyparent.com/event/dean-adventure-camps-open-house-at-the-lawrenceville-school/
LOCATION:The Lawrenceville School\, 2500 Main Street\, Lawrenceville\, PA\, 08648\, United States
CATEGORIES:Community Event,For Kids Ages 11 – 14,For Kids Ages 4 – 6,For Kids Ages 7 – 10,For Kids Ages 8 – 10,For The Whole Family
ATTACH;FMTTYPE=image/jpeg:https://buckscountyparent.com/wp-content/uploads/2026/03/EVENT-DEAN-Adventure-Camp-Open-House-e1772722557465.jpeg
END:VEVENT
BEGIN:VEVENT
DTSTART;TZID=America/New_York:20260317T140000
DTEND;TZID=America/New_York:20260317T151500
DTSTAMP:20260425T074337
CREATED:20260327T162634Z
LAST-MODIFIED:20260327T162634Z
UID:10045348-1773756000-1773760500@buckscountyparent.com
SUMMARY:Roxey Ballet presents Mowgli's Jungle Jamboree
DESCRIPTION:Roxey Ballet invites families to swing into adventure at Mowgli’s Jungle Jamboree on Sunday\, May 17\, 2026. This interactive\, kid-friendly event lets children step into the world of The Jungle Book before the show begins\, meet jungle characters\, enjoy themed treats\, and watch exciting sneak peeks from the production. Through playful storytelling and movement\, kids learn about courage\, friendship\, and belonging. Guests are encouraged to dress as their favorite jungle animals. The jamboree runs about 1 hour and 15 minutes\, with parties at 11:00am and 2:00pm. Families can also meet characters at Shad Fest leading up to the event!
URL:https://buckscountyparent.com/event/roxey-ballet-presents-mowglis-jungle-jamboree-2/2026-03-17/
LOCATION:Roxey Ballet\, 46 N Sugan Road\, New Hope\, PA\, 18938\, United States
CATEGORIES:Bucks County Events,Community Event,For Kids Ages 1 – 3,For Kids Ages 4 – 6,For Kids Ages 7 – 10,For The Whole Family,Theatre and Performance Art
ATTACH;FMTTYPE=image/jpeg:https://buckscountyparent.com/wp-content/uploads/2026/03/EVENT-Roxey-Ballet-Mowglis-Jungle-Jamboree-e1774628739849.jpg
END:VEVENT
BEGIN:VEVENT
DTSTART;TZID=America/New_York:20260319T183000
DTEND;TZID=America/New_York:20260319T193000
DTSTAMP:20260425T074337
CREATED:20260312T134227Z
LAST-MODIFIED:20260312T134227Z
UID:10045288-1773945000-1773948600@buckscountyparent.com
SUMMARY:Community Literacy Night at Celebree School Warrington
DESCRIPTION:Join Celebree for a magical night celebrating reading! Families are invited to enjoy story time\, crafts\, literacy games\, and free books.
URL:https://buckscountyparent.com/event/community-literacy-night-at-celebree-school-warrington/
LOCATION:Celebree School of Warrington\, 590 Kansas Road\, Warrington\, PA\, 18976\, United States
CATEGORIES:Bucks County Events,Community Event,For Kids Ages 1 – 3,For Kids Ages 4 – 6,For Kids Ages 7 – 10,For Parents
ATTACH;FMTTYPE=image/jpeg:https://buckscountyparent.com/wp-content/uploads/2026/03/EVENT-CommunityLiteracyNight-Celebree-of-Warrington-e1773322674823.jpeg
END:VEVENT
BEGIN:VEVENT
DTSTART;TZID=America/New_York:20260320T090000
DTEND;TZID=America/New_York:20260320T150000
DTSTAMP:20260425T074337
CREATED:20260302T013254Z
LAST-MODIFIED:20260302T013944Z
UID:10044989-1773997200-1774018800@buckscountyparent.com
SUMMARY:Camp NAC Day off of school camp
DESCRIPTION:Camp NAC offers reliable childcare on school closure days\, including holidays\, in-service days\, and breaks\, aligned with Council Rock\, Neshaminy\, Pennsbury\, and St. Andrew’s calendars. \nCampers ages 5-12 enjoy daily indoor pool time (swimsuits required)\, while ages 3-4 participate in a separate Early Learners program at a different location. Open to both NAC members and non-members; call for Early Learners details. \n  \nThemes: \nMarch 20th\, 2026 Crazy Crafts or Science Explorers\nMarch 30th\, 2026 Kids Choice\nMarch 31st\, 2026 NACster\nApril 1st\, 2026 Ninja Nastics or Pastry Chef*\nApril 2nd\, 2026 Gymnastics or Sports of all Sorts*\nApril 3rd\, 2026 NEW! Swiftie Summer or Flag Football*\nApril 6th\, 2026 Inflatables or TikTok Food Trends\nApril 13th\, 2026 Kids Choice\nMay 19th\, 2026 NACster
URL:https://buckscountyparent.com/event/camp-nac-day-off-of-school-camp-2/2026-03-20/
LOCATION:Newtown Athletic Club\, 120 Pheasant Run\, Newtown\, PA\, 18940\, United States
CATEGORIES:Bucks County Events,Day off of school camp,For Kids Ages 4 – 6,For Kids Ages 7 – 10,For Kids Ages 8 – 10
ATTACH;FMTTYPE=image/jpeg:https://buckscountyparent.com/wp-content/uploads/2026/03/Mar2020260900AMSchoolsOutCamp_192866677_indoorpool.jpg
END:VEVENT
BEGIN:VEVENT
DTSTART;TZID=America/New_York:20260329T130000
DTEND;TZID=America/New_York:20260329T143000
DTSTAMP:20260425T074337
CREATED:20260312T132427Z
LAST-MODIFIED:20260312T132427Z
UID:10045287-1774789200-1774794600@buckscountyparent.com
SUMMARY:Spring Splash Family Swim at Goldfish Swim School
DESCRIPTION:Celebrate spring with a Spring Splash Family Swim at Goldfish Swim School! Families are invited to enjoy 90 minutes of fun in the warm indoor pool\, perfect for kids and parents to splash\, play\, and practice their swimming skills together. Snacks will also be available\, making it a great way to spend time with family while welcoming the season!
URL:https://buckscountyparent.com/event/spring-splash-family-swim-at-goldfish-swim-school/
LOCATION:Goldfish Swim School – Langorne\, 735 Middletown Blvd\, Langhorne\, PA
CATEGORIES:Bucks County Events,For Kids Ages 1 – 3,For Kids Ages 4 – 6,For Kids Ages 7 – 10,For The Whole Family
ATTACH;FMTTYPE=image/jpeg:https://buckscountyparent.com/wp-content/uploads/2026/03/EVENT-Spring-Family-Swim-Goldfish-Swim-School.jpg
END:VEVENT
BEGIN:VEVENT
DTSTART;TZID=America/New_York:20260330T090000
DTEND;TZID=America/New_York:20260330T150000
DTSTAMP:20260425T074337
CREATED:20260302T013254Z
LAST-MODIFIED:20260302T013944Z
UID:10044990-1774861200-1774882800@buckscountyparent.com
SUMMARY:Camp NAC Day off of school camp
DESCRIPTION:Camp NAC offers reliable childcare on school closure days\, including holidays\, in-service days\, and breaks\, aligned with Council Rock\, Neshaminy\, Pennsbury\, and St. Andrew’s calendars. \nCampers ages 5-12 enjoy daily indoor pool time (swimsuits required)\, while ages 3-4 participate in a separate Early Learners program at a different location. Open to both NAC members and non-members; call for Early Learners details. \n  \nThemes: \nMarch 20th\, 2026 Crazy Crafts or Science Explorers\nMarch 30th\, 2026 Kids Choice\nMarch 31st\, 2026 NACster\nApril 1st\, 2026 Ninja Nastics or Pastry Chef*\nApril 2nd\, 2026 Gymnastics or Sports of all Sorts*\nApril 3rd\, 2026 NEW! Swiftie Summer or Flag Football*\nApril 6th\, 2026 Inflatables or TikTok Food Trends\nApril 13th\, 2026 Kids Choice\nMay 19th\, 2026 NACster
URL:https://buckscountyparent.com/event/camp-nac-day-off-of-school-camp-2/2026-03-30/
LOCATION:Newtown Athletic Club\, 120 Pheasant Run\, Newtown\, PA\, 18940\, United States
CATEGORIES:Bucks County Events,Day off of school camp,For Kids Ages 4 – 6,For Kids Ages 7 – 10,For Kids Ages 8 – 10
ATTACH;FMTTYPE=image/jpeg:https://buckscountyparent.com/wp-content/uploads/2026/03/Mar2020260900AMSchoolsOutCamp_192866677_indoorpool.jpg
END:VEVENT
BEGIN:VEVENT
DTSTART;TZID=America/New_York:20260331T090000
DTEND;TZID=America/New_York:20260331T150000
DTSTAMP:20260425T074337
CREATED:20260302T013254Z
LAST-MODIFIED:20260302T013944Z
UID:10044991-1774947600-1774969200@buckscountyparent.com
SUMMARY:Camp NAC Day off of school camp
DESCRIPTION:Camp NAC offers reliable childcare on school closure days\, including holidays\, in-service days\, and breaks\, aligned with Council Rock\, Neshaminy\, Pennsbury\, and St. Andrew’s calendars. \nCampers ages 5-12 enjoy daily indoor pool time (swimsuits required)\, while ages 3-4 participate in a separate Early Learners program at a different location. Open to both NAC members and non-members; call for Early Learners details. \n  \nThemes: \nMarch 20th\, 2026 Crazy Crafts or Science Explorers\nMarch 30th\, 2026 Kids Choice\nMarch 31st\, 2026 NACster\nApril 1st\, 2026 Ninja Nastics or Pastry Chef*\nApril 2nd\, 2026 Gymnastics or Sports of all Sorts*\nApril 3rd\, 2026 NEW! Swiftie Summer or Flag Football*\nApril 6th\, 2026 Inflatables or TikTok Food Trends\nApril 13th\, 2026 Kids Choice\nMay 19th\, 2026 NACster
URL:https://buckscountyparent.com/event/camp-nac-day-off-of-school-camp-2/2026-03-31/
LOCATION:Newtown Athletic Club\, 120 Pheasant Run\, Newtown\, PA\, 18940\, United States
CATEGORIES:Bucks County Events,Day off of school camp,For Kids Ages 4 – 6,For Kids Ages 7 – 10,For Kids Ages 8 – 10
ATTACH;FMTTYPE=image/jpeg:https://buckscountyparent.com/wp-content/uploads/2026/03/Mar2020260900AMSchoolsOutCamp_192866677_indoorpool.jpg
END:VEVENT
END:VCALENDAR