BEGIN:VCALENDAR
VERSION:2.0
PRODID:-//Bucks County Parent - ECPv6.15.20//NONSGML v1.0//EN
CALSCALE:GREGORIAN
METHOD:PUBLISH
X-WR-CALNAME:Bucks County Parent
X-ORIGINAL-URL:https://buckscountyparent.com
X-WR-CALDESC:Events for Bucks County Parent
REFRESH-INTERVAL;VALUE=DURATION:PT1H
X-Robots-Tag:noindex
X-PUBLISHED-TTL:PT1H
BEGIN:VTIMEZONE
TZID:America/New_York
BEGIN:DAYLIGHT
TZOFFSETFROM:-0500
TZOFFSETTO:-0400
TZNAME:EDT
DTSTART:20250309T070000
END:DAYLIGHT
BEGIN:STANDARD
TZOFFSETFROM:-0400
TZOFFSETTO:-0500
TZNAME:EST
DTSTART:20251102T060000
END:STANDARD
BEGIN:DAYLIGHT
TZOFFSETFROM:-0500
TZOFFSETTO:-0400
TZNAME:EDT
DTSTART:20260308T070000
END:DAYLIGHT
BEGIN:STANDARD
TZOFFSETFROM:-0400
TZOFFSETTO:-0500
TZNAME:EST
DTSTART:20261101T060000
END:STANDARD
BEGIN:DAYLIGHT
TZOFFSETFROM:-0500
TZOFFSETTO:-0400
TZNAME:EDT
DTSTART:20270314T070000
END:DAYLIGHT
BEGIN:STANDARD
TZOFFSETFROM:-0400
TZOFFSETTO:-0500
TZNAME:EST
DTSTART:20271107T060000
END:STANDARD
END:VTIMEZONE
BEGIN:VEVENT
DTSTART;TZID=America/New_York:20260322T130000
DTEND;TZID=America/New_York:20260322T150000
DTSTAMP:20260420T041648
CREATED:20260302T154215Z
LAST-MODIFIED:20260302T154215Z
UID:10045001-1774184400-1774191600@buckscountyparent.com
SUMMARY:Felting with Farren – Easter Eggs at Silkie's Farm
DESCRIPTION:Learn the art of needle felting while creating a decorative egg you’ll cherish for years in this beginner-friendly class with instructor Farren Maillie! Explore endless design possibilities—from classic stripes and polka dots to flowers\, rainbows\, or whimsical scenes—as you sculpt colorful wool fibers using special barbed needles. \nClasses are held in a comfortable converted garage with a powder room\, and participants are welcome to visit the farm shop\, bring snacks or beverages\, and enjoy a fun\, creative atmosphere. \n  \nMarch 22 @ 1:00 pm – 3:00 pm
URL:https://buckscountyparent.com/event/felting-with-farren-easter-eggs-at-silkies-farm/
LOCATION:Silkie’s Farm\, 1418 Hilltop Road\, Chester Springs\, PA\, 19425\, United States
CATEGORIES:Bucks County Events,Class or Workshop
ATTACH;FMTTYPE=image/jpeg:https://buckscountyparent.com/wp-content/uploads/2026/03/EVENT-Felting-with-Farren-Easter-Eggs.jpg
END:VEVENT
END:VCALENDAR