BEGIN:VCALENDAR
VERSION:2.0
PRODID:-//Bucks County Parent - ECPv6.15.20//NONSGML v1.0//EN
CALSCALE:GREGORIAN
METHOD:PUBLISH
X-WR-CALNAME:Bucks County Parent
X-ORIGINAL-URL:https://buckscountyparent.com
X-WR-CALDESC:Events for Bucks County Parent
REFRESH-INTERVAL;VALUE=DURATION:PT1H
X-Robots-Tag:noindex
X-PUBLISHED-TTL:PT1H
BEGIN:VTIMEZONE
TZID:America/New_York
BEGIN:DAYLIGHT
TZOFFSETFROM:-0500
TZOFFSETTO:-0400
TZNAME:EDT
DTSTART:20300310T070000
END:DAYLIGHT
BEGIN:STANDARD
TZOFFSETFROM:-0400
TZOFFSETTO:-0500
TZNAME:EST
DTSTART:20301103T060000
END:STANDARD
BEGIN:DAYLIGHT
TZOFFSETFROM:-0500
TZOFFSETTO:-0400
TZNAME:EDT
DTSTART:20310309T070000
END:DAYLIGHT
BEGIN:STANDARD
TZOFFSETFROM:-0400
TZOFFSETTO:-0500
TZNAME:EST
DTSTART:20311102T060000
END:STANDARD
BEGIN:DAYLIGHT
TZOFFSETFROM:-0500
TZOFFSETTO:-0400
TZNAME:EDT
DTSTART:20320314T070000
END:DAYLIGHT
BEGIN:STANDARD
TZOFFSETFROM:-0400
TZOFFSETTO:-0500
TZNAME:EST
DTSTART:20321107T060000
END:STANDARD
END:VTIMEZONE
BEGIN:VEVENT
DTSTART;TZID=America/New_York:20310108T180000
DTEND;TZID=America/New_York:20310108T200000
DTSTAMP:20260422T042105
CREATED:20240930T125737Z
LAST-MODIFIED:20240930T125737Z
UID:10044332-1925661600-1925668800@buckscountyparent.com
SUMMARY:The Rainbow Room's Weekly Youth/YA Support Group
DESCRIPTION:Ever feel like you need a space where you can just be your authentic self? Somewhere free and open\, where you will be accepted for who you are — regardless of who you love or how you identify. \nThe Rainbow Room is a place where you can come as you are. No judgment. No pressure. Find support\, information\, friendship\, and validation\, every Wednesday night from 6:00 to 8:00 pm. \nThe Rainbow Room has been meeting in Doylestown since 2002 and welcomes all youth\, ages 14 to 21. On the fourth Wednesday of every month youth ages 12 to 13 to join\, with guardian or parent consent. Email RainbowRoom@ppkeystone.org for a consent form. Due to the wider age range on 4th Wednesdays\, the themes and activities are put together with the youngest members in mind (think: crafts and games!). \nThis program is led by a team of award-winning\, trauma-informed\, sexuality education professionals with advanced degrees and certifications in relevant fields.
URL:https://buckscountyparent.com/event/the-rainbow-rooms-weekly-youth-ya-support-group/2031-01-08/
LOCATION:The Rainbow Room\, 186 E. Court St\, Doylestown\, PA\, 18901\, United States
CATEGORIES:Bucks County Events,Support Groups
ATTACH;FMTTYPE=image/jpeg:https://buckscountyparent.com/wp-content/uploads/2024/09/rrcopy2.jpg__1200x675_q75_crop_subsampling-2.jpg
END:VEVENT
BEGIN:VEVENT
DTSTART;TZID=America/New_York:20310115T180000
DTEND;TZID=America/New_York:20310115T200000
DTSTAMP:20260422T042105
CREATED:20240930T125737Z
LAST-MODIFIED:20240930T125737Z
UID:10044373-1926266400-1926273600@buckscountyparent.com
SUMMARY:The Rainbow Room's Weekly Youth/YA Support Group
DESCRIPTION:Ever feel like you need a space where you can just be your authentic self? Somewhere free and open\, where you will be accepted for who you are — regardless of who you love or how you identify. \nThe Rainbow Room is a place where you can come as you are. No judgment. No pressure. Find support\, information\, friendship\, and validation\, every Wednesday night from 6:00 to 8:00 pm. \nThe Rainbow Room has been meeting in Doylestown since 2002 and welcomes all youth\, ages 14 to 21. On the fourth Wednesday of every month youth ages 12 to 13 to join\, with guardian or parent consent. Email RainbowRoom@ppkeystone.org for a consent form. Due to the wider age range on 4th Wednesdays\, the themes and activities are put together with the youngest members in mind (think: crafts and games!). \nThis program is led by a team of award-winning\, trauma-informed\, sexuality education professionals with advanced degrees and certifications in relevant fields.
URL:https://buckscountyparent.com/event/the-rainbow-rooms-weekly-youth-ya-support-group/2031-01-15/
LOCATION:The Rainbow Room\, 186 E. Court St\, Doylestown\, PA\, 18901\, United States
CATEGORIES:Bucks County Events,Support Groups
ATTACH;FMTTYPE=image/jpeg:https://buckscountyparent.com/wp-content/uploads/2024/09/rrcopy2.jpg__1200x675_q75_crop_subsampling-2.jpg
END:VEVENT
BEGIN:VEVENT
DTSTART;TZID=America/New_York:20310122T180000
DTEND;TZID=America/New_York:20310122T200000
DTSTAMP:20260422T042105
CREATED:20240930T125737Z
LAST-MODIFIED:20240930T125737Z
UID:10044393-1926871200-1926878400@buckscountyparent.com
SUMMARY:The Rainbow Room's Weekly Youth/YA Support Group
DESCRIPTION:Ever feel like you need a space where you can just be your authentic self? Somewhere free and open\, where you will be accepted for who you are — regardless of who you love or how you identify. \nThe Rainbow Room is a place where you can come as you are. No judgment. No pressure. Find support\, information\, friendship\, and validation\, every Wednesday night from 6:00 to 8:00 pm. \nThe Rainbow Room has been meeting in Doylestown since 2002 and welcomes all youth\, ages 14 to 21. On the fourth Wednesday of every month youth ages 12 to 13 to join\, with guardian or parent consent. Email RainbowRoom@ppkeystone.org for a consent form. Due to the wider age range on 4th Wednesdays\, the themes and activities are put together with the youngest members in mind (think: crafts and games!). \nThis program is led by a team of award-winning\, trauma-informed\, sexuality education professionals with advanced degrees and certifications in relevant fields.
URL:https://buckscountyparent.com/event/the-rainbow-rooms-weekly-youth-ya-support-group/2031-01-22/
LOCATION:The Rainbow Room\, 186 E. Court St\, Doylestown\, PA\, 18901\, United States
CATEGORIES:Bucks County Events,Support Groups
ATTACH;FMTTYPE=image/jpeg:https://buckscountyparent.com/wp-content/uploads/2024/09/rrcopy2.jpg__1200x675_q75_crop_subsampling-2.jpg
END:VEVENT
BEGIN:VEVENT
DTSTART;TZID=America/New_York:20310129T180000
DTEND;TZID=America/New_York:20310129T200000
DTSTAMP:20260422T042105
CREATED:20240930T125737Z
LAST-MODIFIED:20240930T125737Z
UID:10044696-1927476000-1927483200@buckscountyparent.com
SUMMARY:The Rainbow Room's Weekly Youth/YA Support Group
DESCRIPTION:Ever feel like you need a space where you can just be your authentic self? Somewhere free and open\, where you will be accepted for who you are — regardless of who you love or how you identify. \nThe Rainbow Room is a place where you can come as you are. No judgment. No pressure. Find support\, information\, friendship\, and validation\, every Wednesday night from 6:00 to 8:00 pm. \nThe Rainbow Room has been meeting in Doylestown since 2002 and welcomes all youth\, ages 14 to 21. On the fourth Wednesday of every month youth ages 12 to 13 to join\, with guardian or parent consent. Email RainbowRoom@ppkeystone.org for a consent form. Due to the wider age range on 4th Wednesdays\, the themes and activities are put together with the youngest members in mind (think: crafts and games!). \nThis program is led by a team of award-winning\, trauma-informed\, sexuality education professionals with advanced degrees and certifications in relevant fields.
URL:https://buckscountyparent.com/event/the-rainbow-rooms-weekly-youth-ya-support-group/2031-01-29/
LOCATION:The Rainbow Room\, 186 E. Court St\, Doylestown\, PA\, 18901\, United States
CATEGORIES:Bucks County Events,Support Groups
ATTACH;FMTTYPE=image/jpeg:https://buckscountyparent.com/wp-content/uploads/2024/09/rrcopy2.jpg__1200x675_q75_crop_subsampling-2.jpg
END:VEVENT
BEGIN:VEVENT
DTSTART;TZID=America/New_York:20310204T190000
DTEND;TZID=America/New_York:20310204T193000
DTSTAMP:20260422T042105
CREATED:20241223T212659Z
LAST-MODIFIED:20241223T212659Z
UID:10044804-1927998000-1927999800@buckscountyparent.com
SUMMARY:Pajama Storytime
DESCRIPTION:Stories\, songs\, and movement activities before bedtime for children of all ages every other Tuesday evening. Pajamas welcome (not required).\n \nFun\, brain-building\, and free! No registration required. You do not need to attend every session. \n 
URL:https://buckscountyparent.com/event/pajama-storytime/2031-02-04/
LOCATION:Indian Valley Public Library\, 100 E Church Ave\, Telford\, PA\, 18969\, United States
CATEGORIES:Bucks County Events
ATTACH;FMTTYPE=image/jpeg:https://buckscountyparent.com/wp-content/uploads/2024/12/DSCF0011.jpg
END:VEVENT
BEGIN:VEVENT
DTSTART;TZID=America/New_York:20310205T180000
DTEND;TZID=America/New_York:20310205T200000
DTSTAMP:20260422T042105
CREATED:20240930T125737Z
LAST-MODIFIED:20240930T125737Z
UID:10044806-1928080800-1928088000@buckscountyparent.com
SUMMARY:The Rainbow Room's Weekly Youth/YA Support Group
DESCRIPTION:Ever feel like you need a space where you can just be your authentic self? Somewhere free and open\, where you will be accepted for who you are — regardless of who you love or how you identify. \nThe Rainbow Room is a place where you can come as you are. No judgment. No pressure. Find support\, information\, friendship\, and validation\, every Wednesday night from 6:00 to 8:00 pm. \nThe Rainbow Room has been meeting in Doylestown since 2002 and welcomes all youth\, ages 14 to 21. On the fourth Wednesday of every month youth ages 12 to 13 to join\, with guardian or parent consent. Email RainbowRoom@ppkeystone.org for a consent form. Due to the wider age range on 4th Wednesdays\, the themes and activities are put together with the youngest members in mind (think: crafts and games!). \nThis program is led by a team of award-winning\, trauma-informed\, sexuality education professionals with advanced degrees and certifications in relevant fields.
URL:https://buckscountyparent.com/event/the-rainbow-rooms-weekly-youth-ya-support-group/2031-02-05/
LOCATION:The Rainbow Room\, 186 E. Court St\, Doylestown\, PA\, 18901\, United States
CATEGORIES:Bucks County Events,Support Groups
ATTACH;FMTTYPE=image/jpeg:https://buckscountyparent.com/wp-content/uploads/2024/09/rrcopy2.jpg__1200x675_q75_crop_subsampling-2.jpg
END:VEVENT
BEGIN:VEVENT
DTSTART;TZID=America/New_York:20310212T180000
DTEND;TZID=America/New_York:20310212T200000
DTSTAMP:20260422T042105
CREATED:20240930T125737Z
LAST-MODIFIED:20240930T125737Z
UID:10044908-1928685600-1928692800@buckscountyparent.com
SUMMARY:The Rainbow Room's Weekly Youth/YA Support Group
DESCRIPTION:Ever feel like you need a space where you can just be your authentic self? Somewhere free and open\, where you will be accepted for who you are — regardless of who you love or how you identify. \nThe Rainbow Room is a place where you can come as you are. No judgment. No pressure. Find support\, information\, friendship\, and validation\, every Wednesday night from 6:00 to 8:00 pm. \nThe Rainbow Room has been meeting in Doylestown since 2002 and welcomes all youth\, ages 14 to 21. On the fourth Wednesday of every month youth ages 12 to 13 to join\, with guardian or parent consent. Email RainbowRoom@ppkeystone.org for a consent form. Due to the wider age range on 4th Wednesdays\, the themes and activities are put together with the youngest members in mind (think: crafts and games!). \nThis program is led by a team of award-winning\, trauma-informed\, sexuality education professionals with advanced degrees and certifications in relevant fields.
URL:https://buckscountyparent.com/event/the-rainbow-rooms-weekly-youth-ya-support-group/2031-02-12/
LOCATION:The Rainbow Room\, 186 E. Court St\, Doylestown\, PA\, 18901\, United States
CATEGORIES:Bucks County Events,Support Groups
ATTACH;FMTTYPE=image/jpeg:https://buckscountyparent.com/wp-content/uploads/2024/09/rrcopy2.jpg__1200x675_q75_crop_subsampling-2.jpg
END:VEVENT
BEGIN:VEVENT
DTSTART;TZID=America/New_York:20310219T180000
DTEND;TZID=America/New_York:20310219T200000
DTSTAMP:20260422T042105
CREATED:20240930T125737Z
LAST-MODIFIED:20240930T125737Z
UID:10044930-1929290400-1929297600@buckscountyparent.com
SUMMARY:The Rainbow Room's Weekly Youth/YA Support Group
DESCRIPTION:Ever feel like you need a space where you can just be your authentic self? Somewhere free and open\, where you will be accepted for who you are — regardless of who you love or how you identify. \nThe Rainbow Room is a place where you can come as you are. No judgment. No pressure. Find support\, information\, friendship\, and validation\, every Wednesday night from 6:00 to 8:00 pm. \nThe Rainbow Room has been meeting in Doylestown since 2002 and welcomes all youth\, ages 14 to 21. On the fourth Wednesday of every month youth ages 12 to 13 to join\, with guardian or parent consent. Email RainbowRoom@ppkeystone.org for a consent form. Due to the wider age range on 4th Wednesdays\, the themes and activities are put together with the youngest members in mind (think: crafts and games!). \nThis program is led by a team of award-winning\, trauma-informed\, sexuality education professionals with advanced degrees and certifications in relevant fields.
URL:https://buckscountyparent.com/event/the-rainbow-rooms-weekly-youth-ya-support-group/2031-02-19/
LOCATION:The Rainbow Room\, 186 E. Court St\, Doylestown\, PA\, 18901\, United States
CATEGORIES:Bucks County Events,Support Groups
ATTACH;FMTTYPE=image/jpeg:https://buckscountyparent.com/wp-content/uploads/2024/09/rrcopy2.jpg__1200x675_q75_crop_subsampling-2.jpg
END:VEVENT
BEGIN:VEVENT
DTSTART;TZID=America/New_York:20310226T180000
DTEND;TZID=America/New_York:20310226T200000
DTSTAMP:20260422T042105
CREATED:20240930T125737Z
LAST-MODIFIED:20240930T125737Z
UID:10044988-1929895200-1929902400@buckscountyparent.com
SUMMARY:The Rainbow Room's Weekly Youth/YA Support Group
DESCRIPTION:Ever feel like you need a space where you can just be your authentic self? Somewhere free and open\, where you will be accepted for who you are — regardless of who you love or how you identify. \nThe Rainbow Room is a place where you can come as you are. No judgment. No pressure. Find support\, information\, friendship\, and validation\, every Wednesday night from 6:00 to 8:00 pm. \nThe Rainbow Room has been meeting in Doylestown since 2002 and welcomes all youth\, ages 14 to 21. On the fourth Wednesday of every month youth ages 12 to 13 to join\, with guardian or parent consent. Email RainbowRoom@ppkeystone.org for a consent form. Due to the wider age range on 4th Wednesdays\, the themes and activities are put together with the youngest members in mind (think: crafts and games!). \nThis program is led by a team of award-winning\, trauma-informed\, sexuality education professionals with advanced degrees and certifications in relevant fields.
URL:https://buckscountyparent.com/event/the-rainbow-rooms-weekly-youth-ya-support-group/2031-02-26/
LOCATION:The Rainbow Room\, 186 E. Court St\, Doylestown\, PA\, 18901\, United States
CATEGORIES:Bucks County Events,Support Groups
ATTACH;FMTTYPE=image/jpeg:https://buckscountyparent.com/wp-content/uploads/2024/09/rrcopy2.jpg__1200x675_q75_crop_subsampling-2.jpg
END:VEVENT
BEGIN:VEVENT
DTSTART;TZID=America/New_York:20310304T190000
DTEND;TZID=America/New_York:20310304T193000
DTSTAMP:20260422T042105
CREATED:20241223T212659Z
LAST-MODIFIED:20241223T212659Z
UID:10045185-1930417200-1930419000@buckscountyparent.com
SUMMARY:Pajama Storytime
DESCRIPTION:Stories\, songs\, and movement activities before bedtime for children of all ages every other Tuesday evening. Pajamas welcome (not required).\n \nFun\, brain-building\, and free! No registration required. You do not need to attend every session. \n 
URL:https://buckscountyparent.com/event/pajama-storytime/2031-03-04/
LOCATION:Indian Valley Public Library\, 100 E Church Ave\, Telford\, PA\, 18969\, United States
CATEGORIES:Bucks County Events
ATTACH;FMTTYPE=image/jpeg:https://buckscountyparent.com/wp-content/uploads/2024/12/DSCF0011.jpg
END:VEVENT
BEGIN:VEVENT
DTSTART;TZID=America/New_York:20310305T180000
DTEND;TZID=America/New_York:20310305T200000
DTSTAMP:20260422T042105
CREATED:20240930T125737Z
LAST-MODIFIED:20240930T125737Z
UID:10045186-1930500000-1930507200@buckscountyparent.com
SUMMARY:The Rainbow Room's Weekly Youth/YA Support Group
DESCRIPTION:Ever feel like you need a space where you can just be your authentic self? Somewhere free and open\, where you will be accepted for who you are — regardless of who you love or how you identify. \nThe Rainbow Room is a place where you can come as you are. No judgment. No pressure. Find support\, information\, friendship\, and validation\, every Wednesday night from 6:00 to 8:00 pm. \nThe Rainbow Room has been meeting in Doylestown since 2002 and welcomes all youth\, ages 14 to 21. On the fourth Wednesday of every month youth ages 12 to 13 to join\, with guardian or parent consent. Email RainbowRoom@ppkeystone.org for a consent form. Due to the wider age range on 4th Wednesdays\, the themes and activities are put together with the youngest members in mind (think: crafts and games!). \nThis program is led by a team of award-winning\, trauma-informed\, sexuality education professionals with advanced degrees and certifications in relevant fields.
URL:https://buckscountyparent.com/event/the-rainbow-rooms-weekly-youth-ya-support-group/2031-03-05/
LOCATION:The Rainbow Room\, 186 E. Court St\, Doylestown\, PA\, 18901\, United States
CATEGORIES:Bucks County Events,Support Groups
ATTACH;FMTTYPE=image/jpeg:https://buckscountyparent.com/wp-content/uploads/2024/09/rrcopy2.jpg__1200x675_q75_crop_subsampling-2.jpg
END:VEVENT
BEGIN:VEVENT
DTSTART;TZID=America/New_York:20310312T180000
DTEND;TZID=America/New_York:20310312T200000
DTSTAMP:20260422T042105
CREATED:20240930T125737Z
LAST-MODIFIED:20240930T125737Z
UID:10045289-1931104800-1931112000@buckscountyparent.com
SUMMARY:The Rainbow Room's Weekly Youth/YA Support Group
DESCRIPTION:Ever feel like you need a space where you can just be your authentic self? Somewhere free and open\, where you will be accepted for who you are — regardless of who you love or how you identify. \nThe Rainbow Room is a place where you can come as you are. No judgment. No pressure. Find support\, information\, friendship\, and validation\, every Wednesday night from 6:00 to 8:00 pm. \nThe Rainbow Room has been meeting in Doylestown since 2002 and welcomes all youth\, ages 14 to 21. On the fourth Wednesday of every month youth ages 12 to 13 to join\, with guardian or parent consent. Email RainbowRoom@ppkeystone.org for a consent form. Due to the wider age range on 4th Wednesdays\, the themes and activities are put together with the youngest members in mind (think: crafts and games!). \nThis program is led by a team of award-winning\, trauma-informed\, sexuality education professionals with advanced degrees and certifications in relevant fields.
URL:https://buckscountyparent.com/event/the-rainbow-rooms-weekly-youth-ya-support-group/2031-03-12/
LOCATION:The Rainbow Room\, 186 E. Court St\, Doylestown\, PA\, 18901\, United States
CATEGORIES:Bucks County Events,Support Groups
ATTACH;FMTTYPE=image/jpeg:https://buckscountyparent.com/wp-content/uploads/2024/09/rrcopy2.jpg__1200x675_q75_crop_subsampling-2.jpg
END:VEVENT
BEGIN:VEVENT
DTSTART;TZID=America/New_York:20310319T180000
DTEND;TZID=America/New_York:20310319T200000
DTSTAMP:20260422T042105
CREATED:20240930T125737Z
LAST-MODIFIED:20240930T125737Z
UID:10045318-1931709600-1931716800@buckscountyparent.com
SUMMARY:The Rainbow Room's Weekly Youth/YA Support Group
DESCRIPTION:Ever feel like you need a space where you can just be your authentic self? Somewhere free and open\, where you will be accepted for who you are — regardless of who you love or how you identify. \nThe Rainbow Room is a place where you can come as you are. No judgment. No pressure. Find support\, information\, friendship\, and validation\, every Wednesday night from 6:00 to 8:00 pm. \nThe Rainbow Room has been meeting in Doylestown since 2002 and welcomes all youth\, ages 14 to 21. On the fourth Wednesday of every month youth ages 12 to 13 to join\, with guardian or parent consent. Email RainbowRoom@ppkeystone.org for a consent form. Due to the wider age range on 4th Wednesdays\, the themes and activities are put together with the youngest members in mind (think: crafts and games!). \nThis program is led by a team of award-winning\, trauma-informed\, sexuality education professionals with advanced degrees and certifications in relevant fields.
URL:https://buckscountyparent.com/event/the-rainbow-rooms-weekly-youth-ya-support-group/2031-03-19/
LOCATION:The Rainbow Room\, 186 E. Court St\, Doylestown\, PA\, 18901\, United States
CATEGORIES:Bucks County Events,Support Groups
ATTACH;FMTTYPE=image/jpeg:https://buckscountyparent.com/wp-content/uploads/2024/09/rrcopy2.jpg__1200x675_q75_crop_subsampling-2.jpg
END:VEVENT
BEGIN:VEVENT
DTSTART;TZID=America/New_York:20310326T180000
DTEND;TZID=America/New_York:20310326T200000
DTSTAMP:20260422T042105
CREATED:20240930T125737Z
LAST-MODIFIED:20240930T125737Z
UID:10045342-1932314400-1932321600@buckscountyparent.com
SUMMARY:The Rainbow Room's Weekly Youth/YA Support Group
DESCRIPTION:Ever feel like you need a space where you can just be your authentic self? Somewhere free and open\, where you will be accepted for who you are — regardless of who you love or how you identify. \nThe Rainbow Room is a place where you can come as you are. No judgment. No pressure. Find support\, information\, friendship\, and validation\, every Wednesday night from 6:00 to 8:00 pm. \nThe Rainbow Room has been meeting in Doylestown since 2002 and welcomes all youth\, ages 14 to 21. On the fourth Wednesday of every month youth ages 12 to 13 to join\, with guardian or parent consent. Email RainbowRoom@ppkeystone.org for a consent form. Due to the wider age range on 4th Wednesdays\, the themes and activities are put together with the youngest members in mind (think: crafts and games!). \nThis program is led by a team of award-winning\, trauma-informed\, sexuality education professionals with advanced degrees and certifications in relevant fields.
URL:https://buckscountyparent.com/event/the-rainbow-rooms-weekly-youth-ya-support-group/2031-03-26/
LOCATION:The Rainbow Room\, 186 E. Court St\, Doylestown\, PA\, 18901\, United States
CATEGORIES:Bucks County Events,Support Groups
ATTACH;FMTTYPE=image/jpeg:https://buckscountyparent.com/wp-content/uploads/2024/09/rrcopy2.jpg__1200x675_q75_crop_subsampling-2.jpg
END:VEVENT
BEGIN:VEVENT
DTSTART;TZID=America/New_York:20310401T190000
DTEND;TZID=America/New_York:20310401T193000
DTSTAMP:20260422T042105
CREATED:20241223T212659Z
LAST-MODIFIED:20241223T212659Z
UID:10045441-1932836400-1932838200@buckscountyparent.com
SUMMARY:Pajama Storytime
DESCRIPTION:Stories\, songs\, and movement activities before bedtime for children of all ages every other Tuesday evening. Pajamas welcome (not required).\n \nFun\, brain-building\, and free! No registration required. You do not need to attend every session. \n 
URL:https://buckscountyparent.com/event/pajama-storytime/2031-04-01/
LOCATION:Indian Valley Public Library\, 100 E Church Ave\, Telford\, PA\, 18969\, United States
CATEGORIES:Bucks County Events
ATTACH;FMTTYPE=image/jpeg:https://buckscountyparent.com/wp-content/uploads/2024/12/DSCF0011.jpg
END:VEVENT
BEGIN:VEVENT
DTSTART;TZID=America/New_York:20310402T180000
DTEND;TZID=America/New_York:20310402T200000
DTSTAMP:20260422T042105
CREATED:20240930T125737Z
LAST-MODIFIED:20240930T125737Z
UID:10045424-1932919200-1932926400@buckscountyparent.com
SUMMARY:The Rainbow Room's Weekly Youth/YA Support Group
DESCRIPTION:Ever feel like you need a space where you can just be your authentic self? Somewhere free and open\, where you will be accepted for who you are — regardless of who you love or how you identify. \nThe Rainbow Room is a place where you can come as you are. No judgment. No pressure. Find support\, information\, friendship\, and validation\, every Wednesday night from 6:00 to 8:00 pm. \nThe Rainbow Room has been meeting in Doylestown since 2002 and welcomes all youth\, ages 14 to 21. On the fourth Wednesday of every month youth ages 12 to 13 to join\, with guardian or parent consent. Email RainbowRoom@ppkeystone.org for a consent form. Due to the wider age range on 4th Wednesdays\, the themes and activities are put together with the youngest members in mind (think: crafts and games!). \nThis program is led by a team of award-winning\, trauma-informed\, sexuality education professionals with advanced degrees and certifications in relevant fields.
URL:https://buckscountyparent.com/event/the-rainbow-rooms-weekly-youth-ya-support-group/2031-04-02/
LOCATION:The Rainbow Room\, 186 E. Court St\, Doylestown\, PA\, 18901\, United States
CATEGORIES:Bucks County Events,Support Groups
ATTACH;FMTTYPE=image/jpeg:https://buckscountyparent.com/wp-content/uploads/2024/09/rrcopy2.jpg__1200x675_q75_crop_subsampling-2.jpg
END:VEVENT
BEGIN:VEVENT
DTSTART;TZID=America/New_York:20310409T180000
DTEND;TZID=America/New_York:20310409T200000
DTSTAMP:20260422T042105
CREATED:20240930T125737Z
LAST-MODIFIED:20240930T125737Z
UID:10045447-1933524000-1933531200@buckscountyparent.com
SUMMARY:The Rainbow Room's Weekly Youth/YA Support Group
DESCRIPTION:Ever feel like you need a space where you can just be your authentic self? Somewhere free and open\, where you will be accepted for who you are — regardless of who you love or how you identify. \nThe Rainbow Room is a place where you can come as you are. No judgment. No pressure. Find support\, information\, friendship\, and validation\, every Wednesday night from 6:00 to 8:00 pm. \nThe Rainbow Room has been meeting in Doylestown since 2002 and welcomes all youth\, ages 14 to 21. On the fourth Wednesday of every month youth ages 12 to 13 to join\, with guardian or parent consent. Email RainbowRoom@ppkeystone.org for a consent form. Due to the wider age range on 4th Wednesdays\, the themes and activities are put together with the youngest members in mind (think: crafts and games!). \nThis program is led by a team of award-winning\, trauma-informed\, sexuality education professionals with advanced degrees and certifications in relevant fields.
URL:https://buckscountyparent.com/event/the-rainbow-rooms-weekly-youth-ya-support-group/2031-04-09/
LOCATION:The Rainbow Room\, 186 E. Court St\, Doylestown\, PA\, 18901\, United States
CATEGORIES:Bucks County Events,Support Groups
ATTACH;FMTTYPE=image/jpeg:https://buckscountyparent.com/wp-content/uploads/2024/09/rrcopy2.jpg__1200x675_q75_crop_subsampling-2.jpg
END:VEVENT
BEGIN:VEVENT
DTSTART;TZID=America/New_York:20310416T180000
DTEND;TZID=America/New_York:20310416T200000
DTSTAMP:20260422T042105
CREATED:20240930T125737Z
LAST-MODIFIED:20240930T125737Z
UID:10045463-1934128800-1934136000@buckscountyparent.com
SUMMARY:The Rainbow Room's Weekly Youth/YA Support Group
DESCRIPTION:Ever feel like you need a space where you can just be your authentic self? Somewhere free and open\, where you will be accepted for who you are — regardless of who you love or how you identify. \nThe Rainbow Room is a place where you can come as you are. No judgment. No pressure. Find support\, information\, friendship\, and validation\, every Wednesday night from 6:00 to 8:00 pm. \nThe Rainbow Room has been meeting in Doylestown since 2002 and welcomes all youth\, ages 14 to 21. On the fourth Wednesday of every month youth ages 12 to 13 to join\, with guardian or parent consent. Email RainbowRoom@ppkeystone.org for a consent form. Due to the wider age range on 4th Wednesdays\, the themes and activities are put together with the youngest members in mind (think: crafts and games!). \nThis program is led by a team of award-winning\, trauma-informed\, sexuality education professionals with advanced degrees and certifications in relevant fields.
URL:https://buckscountyparent.com/event/the-rainbow-rooms-weekly-youth-ya-support-group/2031-04-16/
LOCATION:The Rainbow Room\, 186 E. Court St\, Doylestown\, PA\, 18901\, United States
CATEGORIES:Bucks County Events,Support Groups
ATTACH;FMTTYPE=image/jpeg:https://buckscountyparent.com/wp-content/uploads/2024/09/rrcopy2.jpg__1200x675_q75_crop_subsampling-2.jpg
END:VEVENT
END:VCALENDAR