BEGIN:VCALENDAR
VERSION:2.0
PRODID:-//Bucks County Parent - ECPv6.15.20//NONSGML v1.0//EN
CALSCALE:GREGORIAN
METHOD:PUBLISH
X-WR-CALNAME:Bucks County Parent
X-ORIGINAL-URL:https://buckscountyparent.com
X-WR-CALDESC:Events for Bucks County Parent
REFRESH-INTERVAL;VALUE=DURATION:PT1H
X-Robots-Tag:noindex
X-PUBLISHED-TTL:PT1H
BEGIN:VTIMEZONE
TZID:America/New_York
BEGIN:DAYLIGHT
TZOFFSETFROM:-0500
TZOFFSETTO:-0400
TZNAME:EDT
DTSTART:20250309T070000
END:DAYLIGHT
BEGIN:STANDARD
TZOFFSETFROM:-0400
TZOFFSETTO:-0500
TZNAME:EST
DTSTART:20251102T060000
END:STANDARD
BEGIN:DAYLIGHT
TZOFFSETFROM:-0500
TZOFFSETTO:-0400
TZNAME:EDT
DTSTART:20260308T070000
END:DAYLIGHT
BEGIN:STANDARD
TZOFFSETFROM:-0400
TZOFFSETTO:-0500
TZNAME:EST
DTSTART:20261101T060000
END:STANDARD
BEGIN:DAYLIGHT
TZOFFSETFROM:-0500
TZOFFSETTO:-0400
TZNAME:EDT
DTSTART:20270314T070000
END:DAYLIGHT
BEGIN:STANDARD
TZOFFSETFROM:-0400
TZOFFSETTO:-0500
TZNAME:EST
DTSTART:20271107T060000
END:STANDARD
END:VTIMEZONE
BEGIN:VEVENT
DTSTART;TZID=America/New_York:20260422T100000
DTEND;TZID=America/New_York:20260422T120000
DTSTAMP:20260423T083325
CREATED:20260325T154627Z
LAST-MODIFIED:20260325T154627Z
UID:10045335-1776852000-1776859200@buckscountyparent.com
SUMMARY:Earth Day Cleanup at Silver Lake Park
DESCRIPTION:Help the Earth by cleaning up the park! SLNC will be holding a Volunteer Cleanup to celebrate Earth Day (Every Day)! \n\nParticipants should be prepared to get wet and dirty\, and bring a refillable water bottle. This event is Rain or Shine.\nThe meeting place for this event is the Silver Lake PARK Pavilion\, which is located along the paved/accessible path\, near Silver Lake\, past the children’s playground. There you will find SLNC staff and sign-in.\nFeel free to bring your own lunch and stay for a picnic afterward!\n\nRegistration is required if participating in this Event. Register at SilverLakeNatureCenter.org or call 215-785-1177. Thanks!\n*Volunteers under age 18 must have an accompanying parent/legal guardian with them for the duration of the event. No exceptions. Thank you.\n*Mandated Community Service Volunteers must also contact SLNC Assistant Director/Volunteer Coordinator\, Raymie Barry\, prior to registration for any Volunteer Events at rabarry@buckscounty.org or 267-880-5020.
URL:https://buckscountyparent.com/event/earth-day-cleanup-at-silver-lake-park/
LOCATION:Silver Lake Nature Center\, 1306 Bath Rd\, Bristol\, PA\, 19007\, United States
CATEGORIES:Bucks County Events,Community Event,Earth Day
ATTACH;FMTTYPE=image/jpeg:https://buckscountyparent.com/wp-content/uploads/2026/03/EVENT-Earth-Day-Cleanup-Silver-Lake-Park-e1774453575859.jpg
END:VEVENT
BEGIN:VEVENT
DTSTART;TZID=America/New_York:20260422T180000
DTEND;TZID=America/New_York:20260422T200000
DTSTAMP:20260423T083325
CREATED:20240930T125737Z
LAST-MODIFIED:20240930T125737Z
UID:10029057-1776880800-1776888000@buckscountyparent.com
SUMMARY:The Rainbow Room's Weekly Youth/YA Support Group
DESCRIPTION:Ever feel like you need a space where you can just be your authentic self? Somewhere free and open\, where you will be accepted for who you are — regardless of who you love or how you identify. \nThe Rainbow Room is a place where you can come as you are. No judgment. No pressure. Find support\, information\, friendship\, and validation\, every Wednesday night from 6:00 to 8:00 pm. \nThe Rainbow Room has been meeting in Doylestown since 2002 and welcomes all youth\, ages 14 to 21. On the fourth Wednesday of every month youth ages 12 to 13 to join\, with guardian or parent consent. Email RainbowRoom@ppkeystone.org for a consent form. Due to the wider age range on 4th Wednesdays\, the themes and activities are put together with the youngest members in mind (think: crafts and games!). \nThis program is led by a team of award-winning\, trauma-informed\, sexuality education professionals with advanced degrees and certifications in relevant fields.
URL:https://buckscountyparent.com/event/the-rainbow-rooms-weekly-youth-ya-support-group/2026-04-22/
LOCATION:The Rainbow Room\, 186 E. Court St\, Doylestown\, PA\, 18901\, United States
CATEGORIES:Bucks County Events,Support Groups
ATTACH;FMTTYPE=image/jpeg:https://buckscountyparent.com/wp-content/uploads/2024/09/rrcopy2.jpg__1200x675_q75_crop_subsampling-2.jpg
END:VEVENT
END:VCALENDAR