BEGIN:VCALENDAR
VERSION:2.0
PRODID:-//Bucks County Parent - ECPv6.15.20//NONSGML v1.0//EN
CALSCALE:GREGORIAN
METHOD:PUBLISH
X-WR-CALNAME:Bucks County Parent
X-ORIGINAL-URL:https://buckscountyparent.com
X-WR-CALDESC:Events for Bucks County Parent
REFRESH-INTERVAL;VALUE=DURATION:PT1H
X-Robots-Tag:noindex
X-PUBLISHED-TTL:PT1H
BEGIN:VTIMEZONE
TZID:America/New_York
BEGIN:DAYLIGHT
TZOFFSETFROM:-0500
TZOFFSETTO:-0400
TZNAME:EDT
DTSTART:20250309T070000
END:DAYLIGHT
BEGIN:STANDARD
TZOFFSETFROM:-0400
TZOFFSETTO:-0500
TZNAME:EST
DTSTART:20251102T060000
END:STANDARD
BEGIN:DAYLIGHT
TZOFFSETFROM:-0500
TZOFFSETTO:-0400
TZNAME:EDT
DTSTART:20260308T070000
END:DAYLIGHT
BEGIN:STANDARD
TZOFFSETFROM:-0400
TZOFFSETTO:-0500
TZNAME:EST
DTSTART:20261101T060000
END:STANDARD
BEGIN:DAYLIGHT
TZOFFSETFROM:-0500
TZOFFSETTO:-0400
TZNAME:EDT
DTSTART:20270314T070000
END:DAYLIGHT
BEGIN:STANDARD
TZOFFSETFROM:-0400
TZOFFSETTO:-0500
TZNAME:EST
DTSTART:20271107T060000
END:STANDARD
END:VTIMEZONE
BEGIN:VEVENT
DTSTART;TZID=America/New_York:20260506T103000
DTEND;TZID=America/New_York:20260506T113000
DTSTAMP:20260423T041701
CREATED:20251231T184441Z
LAST-MODIFIED:20251231T184441Z
UID:10044158-1778063400-1778067000@buckscountyparent.com
SUMMARY:Kids Yoga at the Free Library of New Hope & Solebury
DESCRIPTION:Join The Free Library of New Hope & Solebury for Kids Yoga at the Library on select Wednesday Mornings at 10:30 a.m. \nEnjoy a fun morning of kids yoga featuring simple poses\, playful breathing exercises\, and relaxation. \nChildren will engage in songs\, games\, stories\, and art while practicing fine and gross motor skills\, social skills\, and learning calming tools.
URL:https://buckscountyparent.com/event/kids-yoga-at-the-free-library-of-new-hope-solebury/2026-05-06/
LOCATION:Bucks County Free Library- New Hope-Solebury\, 93 W Ferry St\, New Hope\, PA\, 18938
CATEGORIES:Bucks County Events,Class or Workshop,Family Event,Free,Kid Event
ATTACH;FMTTYPE=image/png:https://buckscountyparent.com/wp-content/uploads/2025/12/Kids-Yoga-at-New-Hope-Solebury-Library.png
END:VEVENT
BEGIN:VEVENT
DTSTART;TZID=America/New_York:20260506T170000
DTEND;TZID=America/New_York:20260506T190000
DTSTAMP:20260423T041701
CREATED:20260325T155206Z
LAST-MODIFIED:20260325T155206Z
UID:10045336-1778086800-1778094000@buckscountyparent.com
SUMMARY:Fusion Academy Grand Opening in Warrington!
DESCRIPTION:Be Part of the Beginning!\nJoin Fusion Academy on May 6 as they celebrate the official opening of Fusion Academy Warrington—the most personalized middle and high school—now in Bucks County. \nWhat You’ll Experience:\nTour our new campus\, including 1-to-1 classrooms\, Homework Café\, Music Studio\, Art Studio\, Science Lab\, and Social Student Den\nMeet our leadership team and teachers\nConnect with families\, neighbors\, and local professionals\nExplore student artwork and projects\nCelebrate our official ribbon cutting\nAdd your name to our community mosaic art piece\nThis event is a chance to see how Fusion supports students academically\, socially\, and emotionally—and how a relationship-based\, personalized approach helps students build confidence and make progress. Don’t miss the opportunity to tour the campus\, meet the team\, and be part of our growing Fusion community in Bucks County.
URL:https://buckscountyparent.com/event/fusion-academy-grand-opening-in-warrington/
LOCATION:Fusion Academy – Warrington\, 1537 Main St Suite 250\, Warrington\, PA
CATEGORIES:Community Event,For Kids Ages 11 – 14,For Kids Ages 15+,For Kids Ages 7 – 10,For The Whole Family
ATTACH;FMTTYPE=image/png:https://buckscountyparent.com/wp-content/uploads/2026/03/May0620260500PMFusionAcademyGrandOpeninginWarrington_192866677_fusion_warringtongrandopening__square-scaled-e1774453879615.png
END:VEVENT
BEGIN:VEVENT
DTSTART;TZID=America/New_York:20260506T180000
DTEND;TZID=America/New_York:20260506T200000
DTSTAMP:20260423T041701
CREATED:20240930T125737Z
LAST-MODIFIED:20240930T125737Z
UID:10029059-1778090400-1778097600@buckscountyparent.com
SUMMARY:The Rainbow Room's Weekly Youth/YA Support Group
DESCRIPTION:Ever feel like you need a space where you can just be your authentic self? Somewhere free and open\, where you will be accepted for who you are — regardless of who you love or how you identify. \nThe Rainbow Room is a place where you can come as you are. No judgment. No pressure. Find support\, information\, friendship\, and validation\, every Wednesday night from 6:00 to 8:00 pm. \nThe Rainbow Room has been meeting in Doylestown since 2002 and welcomes all youth\, ages 14 to 21. On the fourth Wednesday of every month youth ages 12 to 13 to join\, with guardian or parent consent. Email RainbowRoom@ppkeystone.org for a consent form. Due to the wider age range on 4th Wednesdays\, the themes and activities are put together with the youngest members in mind (think: crafts and games!). \nThis program is led by a team of award-winning\, trauma-informed\, sexuality education professionals with advanced degrees and certifications in relevant fields.
URL:https://buckscountyparent.com/event/the-rainbow-rooms-weekly-youth-ya-support-group/2026-05-06/
LOCATION:The Rainbow Room\, 186 E. Court St\, Doylestown\, PA\, 18901\, United States
CATEGORIES:Bucks County Events,Support Groups
ATTACH;FMTTYPE=image/jpeg:https://buckscountyparent.com/wp-content/uploads/2024/09/rrcopy2.jpg__1200x675_q75_crop_subsampling-2.jpg
END:VEVENT
END:VCALENDAR