BEGIN:VCALENDAR
VERSION:2.0
PRODID:-//Bucks County Parent - ECPv6.15.20//NONSGML v1.0//EN
CALSCALE:GREGORIAN
METHOD:PUBLISH
X-ORIGINAL-URL:https://buckscountyparent.com
X-WR-CALDESC:Events for Bucks County Parent
REFRESH-INTERVAL;VALUE=DURATION:PT1H
X-Robots-Tag:noindex
X-PUBLISHED-TTL:PT1H
BEGIN:VTIMEZONE
TZID:America/New_York
BEGIN:DAYLIGHT
TZOFFSETFROM:-0500
TZOFFSETTO:-0400
TZNAME:EDT
DTSTART:20250309T070000
END:DAYLIGHT
BEGIN:STANDARD
TZOFFSETFROM:-0400
TZOFFSETTO:-0500
TZNAME:EST
DTSTART:20251102T060000
END:STANDARD
BEGIN:DAYLIGHT
TZOFFSETFROM:-0500
TZOFFSETTO:-0400
TZNAME:EDT
DTSTART:20260308T070000
END:DAYLIGHT
BEGIN:STANDARD
TZOFFSETFROM:-0400
TZOFFSETTO:-0500
TZNAME:EST
DTSTART:20261101T060000
END:STANDARD
BEGIN:DAYLIGHT
TZOFFSETFROM:-0500
TZOFFSETTO:-0400
TZNAME:EDT
DTSTART:20270314T070000
END:DAYLIGHT
BEGIN:STANDARD
TZOFFSETFROM:-0400
TZOFFSETTO:-0500
TZNAME:EST
DTSTART:20271107T060000
END:STANDARD
END:VTIMEZONE
BEGIN:VEVENT
DTSTART;VALUE=DATE:20260331
DTEND;VALUE=DATE:20260403
DTSTAMP:20260424T080018
CREATED:20260324T163645Z
LAST-MODIFIED:20260324T163645Z
UID:10045332-1774915200-1775174399@buckscountyparent.com
SUMMARY:Lower Makefield Township's Egg-Stravaganza
DESCRIPTION:Hop on over for 𝘁𝗵𝗿𝗲𝗲 𝗱𝗮𝘆𝘀 𝗼𝗳 𝗲𝗴𝗴-𝗰𝗶𝘁𝗶𝗻𝗴 𝗳𝘂𝗻 at our parks! Loads of eggs are hidden 𝘁𝘄𝗶𝗰𝗲 𝗲𝗮𝗰𝗵 𝗱𝗮𝘆\, and one lucky hunter could find the 𝗴𝗿𝗮𝗻𝗱 𝗽𝗿𝗶𝘇𝗲: 𝘁𝗵𝗲 𝗚𝗶𝗮𝗻𝘁 𝗚𝗼𝗹𝗱𝗲𝗻 𝗘𝗴𝗴!\n\n\n\nThere are also 𝗹𝗼𝘁𝘀 𝗼𝗳 𝗼𝘁𝗵𝗲𝗿 𝗮𝗺𝗮𝘇𝗶𝗻𝗴 𝗽𝗿𝗶𝘇𝗲𝘀 waiting to be discovered — so bring your baskets\, explore the parks\, and see if luck is on your side!\n\n\n𝗘𝘃𝗲𝗻𝘁 𝗗𝗮𝘁𝗲𝘀: March 31-April 2\n𝗟𝗼𝗰𝗮𝘁𝗶𝗼𝗻𝘀: Various township parks
URL:https://buckscountyparent.com/event/lower-makefield-townships-egg-stravaganza/
LOCATION:PA
CATEGORIES:Bucks County Events,Easter
ATTACH;FMTTYPE=image/jpeg:https://buckscountyparent.com/wp-content/uploads/2026/03/EVENT-Lower-Makefield-Eggstravaganza.jpg
END:VEVENT
BEGIN:VEVENT
DTSTART;TZID=America/New_York:20260401T090000
DTEND;TZID=America/New_York:20260401T150000
DTSTAMP:20260424T080018
CREATED:20260302T013254Z
LAST-MODIFIED:20260302T013944Z
UID:10044992-1775034000-1775055600@buckscountyparent.com
SUMMARY:Camp NAC Day off of school camp
DESCRIPTION:Camp NAC offers reliable childcare on school closure days\, including holidays\, in-service days\, and breaks\, aligned with Council Rock\, Neshaminy\, Pennsbury\, and St. Andrew’s calendars. \nCampers ages 5-12 enjoy daily indoor pool time (swimsuits required)\, while ages 3-4 participate in a separate Early Learners program at a different location. Open to both NAC members and non-members; call for Early Learners details. \n  \nThemes: \nMarch 20th\, 2026 Crazy Crafts or Science Explorers\nMarch 30th\, 2026 Kids Choice\nMarch 31st\, 2026 NACster\nApril 1st\, 2026 Ninja Nastics or Pastry Chef*\nApril 2nd\, 2026 Gymnastics or Sports of all Sorts*\nApril 3rd\, 2026 NEW! Swiftie Summer or Flag Football*\nApril 6th\, 2026 Inflatables or TikTok Food Trends\nApril 13th\, 2026 Kids Choice\nMay 19th\, 2026 NACster
URL:https://buckscountyparent.com/event/camp-nac-day-off-of-school-camp-2/2026-04-01/
LOCATION:Newtown Athletic Club\, 120 Pheasant Run\, Newtown\, PA\, 18940\, United States
CATEGORIES:Bucks County Events,Day off of school camp,For Kids Ages 4 – 6,For Kids Ages 7 – 10,For Kids Ages 8 – 10
ATTACH;FMTTYPE=image/jpeg:https://buckscountyparent.com/wp-content/uploads/2026/03/Mar2020260900AMSchoolsOutCamp_192866677_indoorpool.jpg
END:VEVENT
BEGIN:VEVENT
DTSTART;TZID=America/New_York:20260401T103000
DTEND;TZID=America/New_York:20260401T113000
DTSTAMP:20260424T080018
CREATED:20251231T184441Z
LAST-MODIFIED:20251231T184441Z
UID:10044157-1775039400-1775043000@buckscountyparent.com
SUMMARY:Kids Yoga at the Free Library of New Hope & Solebury
DESCRIPTION:Join The Free Library of New Hope & Solebury for Kids Yoga at the Library on select Wednesday Mornings at 10:30 a.m. \nEnjoy a fun morning of kids yoga featuring simple poses\, playful breathing exercises\, and relaxation. \nChildren will engage in songs\, games\, stories\, and art while practicing fine and gross motor skills\, social skills\, and learning calming tools.
URL:https://buckscountyparent.com/event/kids-yoga-at-the-free-library-of-new-hope-solebury/2026-04-01/
LOCATION:Bucks County Free Library- New Hope-Solebury\, 93 W Ferry St\, New Hope\, PA\, 18938
CATEGORIES:Bucks County Events,Class or Workshop,Family Event,Free,Kid Event
ATTACH;FMTTYPE=image/png:https://buckscountyparent.com/wp-content/uploads/2025/12/Kids-Yoga-at-New-Hope-Solebury-Library.png
END:VEVENT
BEGIN:VEVENT
DTSTART;TZID=America/New_York:20260401T120000
DTEND;TZID=America/New_York:20260430T210000
DTSTAMP:20260424T080018
CREATED:20260331T140338Z
LAST-MODIFIED:20260331T140338Z
UID:10045372-1775044800-1777582800@buckscountyparent.com
SUMMARY:Celebrate National Arcade Day with Monster-sized Fun
DESCRIPTION:Celebrate National Arcade Day with Monster-sized Fun. \nApril 8 is National Arcade Day\, and Monster Mini Golf East Norriton is celebrating all month long! At Monster Mini Golf East Norriton\, arcade games\, glowing courses\, and competition bring monsters and humans together for a one-of-a-kind experience this April. \nStep into their state-of-the-art arcade and enjoy classic favorites\, modern games\, and prize-winning fun for all ages. Plan a family outing in Montgomery County for the perfect place to play. \nVisit their Norristown location page for online deals and specials!
URL:https://buckscountyparent.com/event/celebrate-national-arcade-day-with-monster-sized-fun/
LOCATION:Monster Mini Golf East Norriton\, 7 West Germantown Pike\, Norristown\, Pennsylvania\, 19401
CATEGORIES:Community Event,For Kids Ages 11 – 14,For Kids Ages 15+,For Kids Ages 4 – 6,For Kids Ages 7 – 10,For New & Expecting Parents,For Parents,For The Whole Family
ATTACH;FMTTYPE=image/jpeg:https://buckscountyparent.com/wp-content/uploads/2026/03/EVENT-Monster-Mini-Golf-East-Norriton.jpg
END:VEVENT
BEGIN:VEVENT
DTSTART;TZID=America/New_York:20260401T160000
DTEND;TZID=America/New_York:20260401T200000
DTSTAMP:20260424T080018
CREATED:20260330T183420Z
LAST-MODIFIED:20260330T183420Z
UID:10045364-1775059200-1775073600@buckscountyparent.com
SUMMARY:Sesame Street Passover Event
DESCRIPTION:Join Sesame Place for their special Passover Event! Take a photo with Baby Bear\, who celebrates Passover with his family\, and join a local cantor and your favorite furry friends for a special Passover presentation and sing-along.
URL:https://buckscountyparent.com/event/sesame-street-passover-event/2026-04-01/
LOCATION:Sesame Place Philadelphia\, 100 Sesame Rd\, Langhorne\, PA\, 19047
CATEGORIES:Passover
ATTACH;FMTTYPE=image/webp:https://buckscountyparent.com/wp-content/uploads/2026/03/EVENT-Passover-Event-at-Sesame-Place.webp
END:VEVENT
BEGIN:VEVENT
DTSTART;TZID=America/New_York:20260401T180000
DTEND;TZID=America/New_York:20260401T190000
DTSTAMP:20260424T080018
CREATED:20260302T020203Z
LAST-MODIFIED:20260302T020203Z
UID:10044998-1775066400-1775070000@buckscountyparent.com
SUMMARY:Kids Easter Cake Decorating at the Sarah Mitchell Community Center
DESCRIPTION:Join Lower Southampton for a one‑hour cake‑decorating class for ages 4–13 at the Sarah Mitchell Community Center on April 1\, 2026. Bright colors\, Easter accents\, and a playful baking theme highlight a fun\, hands‑on evening where children can design their own festive treats.
URL:https://buckscountyparent.com/event/kids-easter-cake-decorating-at-the-sarah-mitchell-community-center/
LOCATION:Sarah Mitchell Community Center\, 1500 Desire Ave\, Feasterville\, PA\, 19053
CATEGORIES:Bucks County Events,Easter,Kid Event
ATTACH;FMTTYPE=image/jpeg:https://buckscountyparent.com/wp-content/uploads/2026/03/Kids-Easter-Cake-Decorating-e1772416860486.jpg
END:VEVENT
BEGIN:VEVENT
DTSTART;TZID=America/New_York:20260401T180000
DTEND;TZID=America/New_York:20260401T200000
DTSTAMP:20260424T080018
CREATED:20240930T125737Z
LAST-MODIFIED:20240930T125737Z
UID:10029054-1775066400-1775073600@buckscountyparent.com
SUMMARY:The Rainbow Room's Weekly Youth/YA Support Group
DESCRIPTION:Ever feel like you need a space where you can just be your authentic self? Somewhere free and open\, where you will be accepted for who you are — regardless of who you love or how you identify. \nThe Rainbow Room is a place where you can come as you are. No judgment. No pressure. Find support\, information\, friendship\, and validation\, every Wednesday night from 6:00 to 8:00 pm. \nThe Rainbow Room has been meeting in Doylestown since 2002 and welcomes all youth\, ages 14 to 21. On the fourth Wednesday of every month youth ages 12 to 13 to join\, with guardian or parent consent. Email RainbowRoom@ppkeystone.org for a consent form. Due to the wider age range on 4th Wednesdays\, the themes and activities are put together with the youngest members in mind (think: crafts and games!). \nThis program is led by a team of award-winning\, trauma-informed\, sexuality education professionals with advanced degrees and certifications in relevant fields.
URL:https://buckscountyparent.com/event/the-rainbow-rooms-weekly-youth-ya-support-group/2026-04-01/
LOCATION:The Rainbow Room\, 186 E. Court St\, Doylestown\, PA\, 18901\, United States
CATEGORIES:Bucks County Events,Support Groups
ATTACH;FMTTYPE=image/jpeg:https://buckscountyparent.com/wp-content/uploads/2024/09/rrcopy2.jpg__1200x675_q75_crop_subsampling-2.jpg
END:VEVENT
END:VCALENDAR